BEGIN:VCALENDAR
VERSION:2.0
PRODID:-//Allt om syntolkning - ECPv6.0.13.1//NONSGML v1.0//EN
CALSCALE:GREGORIAN
METHOD:PUBLISH
X-WR-CALNAME:Allt om syntolkning
X-ORIGINAL-URL:https://alltomsyntolkning.nu
X-WR-CALDESC:Events for Allt om syntolkning
REFRESH-INTERVAL;VALUE=DURATION:PT1H
X-Robots-Tag:noindex
X-PUBLISHED-TTL:PT1H
BEGIN:VTIMEZONE
TZID:Europe/Stockholm
BEGIN:DAYLIGHT
TZOFFSETFROM:+0100
TZOFFSETTO:+0200
TZNAME:CEST
DTSTART:20240331T010000
END:DAYLIGHT
BEGIN:STANDARD
TZOFFSETFROM:+0200
TZOFFSETTO:+0100
TZNAME:CET
DTSTART:20241027T010000
END:STANDARD
END:VTIMEZONE
BEGIN:VEVENT
DTSTART;TZID=Europe/Stockholm:20241028T113000
DTEND;TZID=Europe/Stockholm:20241028T130000
DTSTAMP:20260420T223134
CREATED:20240921T085540Z
LAST-MODIFIED:20240921T091538Z
UID:15406-1730115000-1730120400@alltomsyntolkning.nu
SUMMARY:LASSEMAJAS DETEKTIVBYRÅ - MASKOTEN SOM FÖRSVANN - mobillapp
DESCRIPTION:ARRANGÖR:\n\nGöteborg Filmfestival Prisma. Mobilappen via SF Studios med stöd av Svenska Filminstitutet \nHANDLING:\nLasse och Maja är tillbaka med ett nytt spännande mysterium. Inför de årliga Vallebyspelen skadas en efter en av de tävlande. Spåren leder Lasse och Maja till en mörk hemlighet och en gammal myt om spelens maskot som sägs hemsöka hallen. Kommer Lasse och Maja finna lösningen innan någon mer råkar illa ut och kommer deras vänskap överleva prövningarna? \nBiljetter:\nKöps via Filmfestivalens hemsida. Pris 100:- \nÖvrigt:\nSyntolkningen finns bland annat i mobilappen MovieTalk
URL:https://alltomsyntolkning.nu/event/lassemajas-detektivbyra-maskoten-som-forsvann-mobillapp/
LOCATION:Hagabion\, Linnégatan 21\, Göteborg\, 213 04
CATEGORIES:Biofilm,Prisma filmfestival
ATTACH;FMTTYPE=image/jpeg:https://alltomsyntolkning.nu/wp-content/uploads/lm.jpg
END:VEVENT
BEGIN:VEVENT
DTSTART;TZID=Europe/Stockholm:20241028T123000
DTEND;TZID=Europe/Stockholm:20241028T140000
DTSTAMP:20260420T223134
CREATED:20240921T092021Z
LAST-MODIFIED:20240921T092021Z
UID:15418-1730118600-1730124000@alltomsyntolkning.nu
SUMMARY:TODD OCH SUPERSTELLA - uppläst texremsa
DESCRIPTION:ARRANGÖR:\n\nGöteborg Filmfestival Prisma i samarbete med Syntolkning Nu och med stöd av Svenska Filminstitutet \nHANDLING:\nLillasyster Stella är avundsjuk på storebror Todd som inte verkar vara rädd för någonting. Dessutom vinner han alltid när de tävlar. Men\, det är inte lätt att vara störst heller\, särskilt inte när det är Stella som blir tröstad trots att det var Todd som slog sig. Under fem år följer vi Todd och Stella\, från förskola till skola\, i en dokumentär där animationer hjälper till att skapa bilder kring deras inre tankar och drömmar. Det är en film om att vara barn idag och fylld med igenkänning för alla som har ett syskon. \nBiljetter:\nKöps via Filmfestivalens hemsida. Pris 70:- \nÖvrigt:\nFilmen framförs på norska och syntolken läser textremsan via mottagare\, som lånas på plats
URL:https://alltomsyntolkning.nu/event/todd-och-superstella-upplast-texremsa/
LOCATION:Hagabion\, Linnégatan 21\, Göteborg\, 213 04
CATEGORIES:Biofilm,Prisma filmfestival
ATTACH;FMTTYPE=image/jpeg:https://alltomsyntolkning.nu/wp-content/uploads/todd-1.jpg
END:VEVENT
BEGIN:VEVENT
DTSTART;TZID=Europe/Stockholm:20241028T150000
DTEND;TZID=Europe/Stockholm:20241028T161500
DTSTAMP:20260420T223134
CREATED:20240921T095258Z
LAST-MODIFIED:20240921T095258Z
UID:15426-1730127600-1730132100@alltomsyntolkning.nu
SUMMARY:CHICKEN FOR LINDA - uppläst textremsa
DESCRIPTION:ARRANGÖR:\n\nGöteborg Filmfestival Prisma i samarbete med Syntolkning Nu och med stöd av Svenska Filminstitutet \nHANDLING:\nPaulette grips av ånger efter att orättfärdigt ha straffat sin dotter Linda för något hon inte gjort. När Paulette ber Linda önska sig något som gottgörelse ber dottern om att få en rätt till middag som hennes bortgångne pappa brukade laga. Paulette beslutar sig för att uppfylla dotterns önskan\, men med en pågående strejk som lamslår hela staden ska den visa sig bli långt svårare att skaffa fram än förutsett. Regissörerna Chiara Malta och Sébastien Laudenbach har med sina slagfärdiga expressionistiska animationer\, livfulla ljudbild och realistiska karaktärer skapat ett engagerande och berörande mor-dotterdrama för hela familjen. \nBiljetter:\nKöps via Filmfestivalens hemsida. Pris 70:- \nÖvrigt:\nFilmen framförs på engelska och syntolken läser textremsan via mottagare\, som lånas på plats
URL:https://alltomsyntolkning.nu/event/chicken-for-linda-upplast-textremsa/
LOCATION:Hagabion\, Linnégatan 21\, Göteborg\, 213 04
CATEGORIES:Biofilm,Prisma filmfestival
ATTACH;FMTTYPE=image/jpeg:https://alltomsyntolkning.nu/wp-content/uploads/chicken.jpg
END:VEVENT
END:VCALENDAR