BEGIN:VCALENDAR
VERSION:2.0
PRODID:-//Allt om syntolkning - ECPv6.0.13.1//NONSGML v1.0//EN
CALSCALE:GREGORIAN
METHOD:PUBLISH
X-WR-CALNAME:Allt om syntolkning
X-ORIGINAL-URL:https://alltomsyntolkning.nu
X-WR-CALDESC:Events for Allt om syntolkning
REFRESH-INTERVAL;VALUE=DURATION:PT1H
X-Robots-Tag:noindex
X-PUBLISHED-TTL:PT1H
BEGIN:VTIMEZONE
TZID:Europe/Stockholm
BEGIN:DAYLIGHT
TZOFFSETFROM:+0100
TZOFFSETTO:+0200
TZNAME:CEST
DTSTART:20250330T010000
END:DAYLIGHT
BEGIN:STANDARD
TZOFFSETFROM:+0200
TZOFFSETTO:+0100
TZNAME:CET
DTSTART:20251026T010000
END:STANDARD
END:VTIMEZONE
BEGIN:VEVENT
DTSTART;TZID=Europe/Stockholm:20250316T160000
DTEND;TZID=Europe/Stockholm:20250316T184500
DTSTAMP:20260421T082915
CREATED:20241017T120305Z
LAST-MODIFIED:20250128T114451Z
UID:15445-1742140800-1742150700@alltomsyntolkning.nu
SUMMARY:TROLLFLÖJTEN
DESCRIPTION:ARRANGÖR:\nSyntolkning Nu i samarbete med Folkoperan \nHANDLING: \nI en ojämlik och maktfullkomlig värld bedrivs en kamp – en kamp om ungdomlig frigörelse med hopp och kärlek som vapen.\nDen unge prins Tamino har förälskat sig i Pamina som är dotter till Nattens drottning. Han får i uppdrag att befria henne från tempelherren Sarastro som tagit henne till fånga. Till sin hjälp får Tamino en magisk flöjt som ska skydda honom från fara. Papageno\, fågelfångaren med ett magiskt klockspel\, blir hans följeslagare. Ett uppdrag som utsätter dem för många prövningar och hinder i jakten på frihet och kärlek.\nParallellt pågår en kamp mellan Sarastro och Nattens drottning som får till följd att en motvillig Pamina uppmanas mörda Sarastro. I jakten på frihet och kärlek utsätts de för en mängd prövningar och det blir till slut Pamina som leder Tamino genom de sista prövningarna. \nMEDVERKANDE: \nEndre Aaberge Dahl\, Anton Lundqvist\, Clarice Granado\, Karolina Andersson\, Minna Tägil\, m.fl. \nÖvrigt:\nHar man bokat egna biljetter till detta evenemang\, så går det också bra att ta del av syntolkning. Beställ gratis mottagare. Vid behov av ledsagare eller frågor om evenemanget kontakta boka@syntolkning.nu Telefon 031-3608445 \nAngående bokning: \nVid köp via Syntolkning Nu tillkommer en portoavgift samt\, för icke medlemmar\, en administrativ avgift om 35 kronor.\nBiljetterna är bokade ända fram till dess att full betalning skett. Fram till dess kan antalet biljetter justeras. Köpta biljetter kan enligt arrangörens bestämmelser inte återlämnas. Vid inställt evenemang gäller arrangörens regler.
URL:https://alltomsyntolkning.nu/event/trollflojten/
LOCATION:Folkoperan\, Hornsgatan 72\, Stockholm\, 118 21
CATEGORIES:Ledsagare utan kostnad,Opera
ATTACH;FMTTYPE=image/jpeg:https://alltomsyntolkning.nu/wp-content/uploads/troll.jpg
END:VEVENT
END:VCALENDAR