BEGIN:VCALENDAR
VERSION:2.0
PRODID:-//Allt om syntolkning - ECPv6.0.13.1//NONSGML v1.0//EN
CALSCALE:GREGORIAN
METHOD:PUBLISH
X-ORIGINAL-URL:https://alltomsyntolkning.nu
X-WR-CALDESC:Events for Allt om syntolkning
REFRESH-INTERVAL;VALUE=DURATION:PT1H
X-Robots-Tag:noindex
X-PUBLISHED-TTL:PT1H
BEGIN:VTIMEZONE
TZID:Europe/Stockholm
BEGIN:DAYLIGHT
TZOFFSETFROM:+0100
TZOFFSETTO:+0200
TZNAME:CEST
DTSTART:20260329T010000
END:DAYLIGHT
BEGIN:STANDARD
TZOFFSETFROM:+0200
TZOFFSETTO:+0100
TZNAME:CET
DTSTART:20261025T010000
END:STANDARD
END:VTIMEZONE
BEGIN:VEVENT
DTSTART;TZID=Europe/Stockholm:20260524T130000
DTEND;TZID=Europe/Stockholm:20260524T140000
DTSTAMP:20260421T025412
CREATED:20260419T085203Z
LAST-MODIFIED:20260419T085203Z
UID:16649-1779627600-1779631200@alltomsyntolkning.nu
SUMMARY:KARNEVALTÅGET
DESCRIPTION:ARRANGÖR:\nSyntolkning Nu i samarbete med Lundakarnevalen 2026 \nOM EVENTET:\nCelestialKarneval\nCelestialkarnevalen är 2026 års upplaga av Lundakarnevalen\, och i år riktar vi blicken mot stjärnorna. Under en intensiv karnevalshelg\, förvandlas Lund till ett kosmiskt landskap fyllt av galaxer\, rymdäventyr\, och självklart\, ett alldeles utomjordiskt tåg! Den 22 maj landar ett intergalaktiskt festivalområde i Lundagård med konserter\, nöjen\, tombolor och krogar som är redo att servera bränsle för både kropp\, själ och rymdresor. Det blir spexigare\, större och mer himmelskt än någonsin tidigare\, där kreativiteten får sväva fritt och fantasin inte har några gränser. Tillsammans bygger vi en karneval som rör sig bortom vardagen och ut i det okända. Så polera era rymdfarkoster\, Celestialkarnevalen är redo för avfärd\, och universum väntar på oss! \nMEDVERKANDE:\nLundastudenter \nANGÅENDE BOKNING: \nPriset för biljett med syntolkning är utan kostnad.\nLedsagare medföljer utan kostnad\nLån av mottagare kostar ingenting\, men bör förbokas.\nÖnskat antal biljetter skickas till boka@syntolkning.nu\nAnge namn\, adress\, mobilnummer samt antal biljetter. \nVid köp via Syntolkning Nu tillkommer en portoavgift samt\, för icke medlemmar\, en administrativ avgift om 45 kronor.\nHar man bokat egna biljetter till detta evenemang\, så går det också bra att ta del av syntolkning. Beställ gratis mottagare. Samling för syntolkningen 45 minuter innan.\nFrågor om evenemanget kontakta boka@syntolkning.nu\nTelefon 0730-345112 \nKöpta biljetter kan enligt arrangörens bestämmelser inte återlämnas. Vid inställt evenemang gäller arrangörens regler.
URL:https://alltomsyntolkning.nu/event/karnevaltaget-2/
LOCATION:Hörnet Biskopsgatan\, Biskopsgatan 1\, Lund\, 223 62
CATEGORIES:Ledsagare utan kostnad,Lundakarnevalen
ATTACH;FMTTYPE=image/png:https://alltomsyntolkning.nu/wp-content/uploads/spexkarta.png
END:VEVENT
BEGIN:VEVENT
DTSTART;TZID=Europe/Stockholm:20260524T190000
DTEND;TZID=Europe/Stockholm:20260524T200000
DTSTAMP:20260421T025412
CREATED:20260419T085203Z
LAST-MODIFIED:20260419T085203Z
UID:16657-1779649200-1779652800@alltomsyntolkning.nu
SUMMARY:FILMEN
DESCRIPTION:ARRANGÖR:\nSyntolkning Nu i samarbete med Lundakarnevalen 2026 \nOM EVENTET:\nCelestialkarnevalen är 2026 års upplaga av Lundakarnevalen\, och i år riktar vi blicken mot stjärnorna. Under en intensiv karnevalshelg\, förvandlas Lund till ett kosmiskt landskap fyllt av galaxer\, rymdäventyr\, och självklart\, ett alldeles utomjordiskt tåg! Den 22 maj landar ett intergalaktiskt festivalområde i Lundagård med konserter\, nöjen\, tombolor och krogar som är redo att servera bränsle för både kropp\, själ och rymdresor. Det blir spexigare\, större och mer himmelskt än någonsin tidigare\, där kreativiteten får sväva fritt och fantasin inte har några gränser. Tillsammans bygger vi en karneval som rör sig bortom vardagen och ut i det okända. Så polera era rymdfarkoster\, Celestialkarnevalen är redo för avfärd\, och universum väntar på oss! \nNär Carl inser att han blivit osynlig börjar en kamp om tid och rum. Med hjälp av Stella\, den enda som kan se honom\, måste han lösa gåtan om hur han blev osynlig och hur han ska bli synlig igen. Lund blir arenan för märkvärdighet\, kärlek och ringklockor. \nMEDVERKANDE:\nLundastudenter \nANGÅENDE BOKNING: \nPriset för biljett med syntolkning är 110:-\nLedsagare medföljer utan kostnad\nLån av mottagare kostar ingenting\, men bör förbokas.\nÖnskat antal biljetter skickas till boka@syntolkning.nu\nAnge namn\, adress\, mobilnummer samt antal biljetter. \nVid köp via Syntolkning Nu tillkommer en portoavgift samt\, för icke medlemmar\, en administrativ avgift om 45 kronor.\nHar man bokat egna biljetter till detta evenemang\, så går det också bra att ta del av syntolkning. Beställ gratis mottagare. Samling för syntolkningen 45 minuter innan.\nFrågor om evenemanget kontakta boka@syntolkning.nu\nTelefon 0730-345112 \nKöpta biljetter kan enligt arrangörens bestämmelser inte återlämnas. Vid inställt evenemang gäller arrangörens regler.
URL:https://alltomsyntolkning.nu/event/filmen/
LOCATION:AF-Borgen\, Sandgatan 2\, Lund\, 223 50
CATEGORIES:Ledsagare utan kostnad,Lundakarnevalen
ATTACH;FMTTYPE=image/png:https://alltomsyntolkning.nu/wp-content/uploads/filmen.png
END:VEVENT
END:VCALENDAR