BEGIN:VCALENDAR
VERSION:2.0
PRODID:-//Allt om syntolkning - ECPv6.0.13.1//NONSGML v1.0//EN
CALSCALE:GREGORIAN
METHOD:PUBLISH
X-WR-CALNAME:Allt om syntolkning
X-ORIGINAL-URL:https://alltomsyntolkning.nu
X-WR-CALDESC:Events for Allt om syntolkning
REFRESH-INTERVAL;VALUE=DURATION:PT1H
X-Robots-Tag:noindex
X-PUBLISHED-TTL:PT1H
BEGIN:VTIMEZONE
TZID:Europe/Stockholm
BEGIN:DAYLIGHT
TZOFFSETFROM:+0100
TZOFFSETTO:+0200
TZNAME:CEST
DTSTART:20240331T010000
END:DAYLIGHT
BEGIN:STANDARD
TZOFFSETFROM:+0200
TZOFFSETTO:+0100
TZNAME:CET
DTSTART:20241027T010000
END:STANDARD
END:VTIMEZONE
BEGIN:VEVENT
DTSTART;TZID=Europe/Stockholm:20241227T160000
DTEND;TZID=Europe/Stockholm:20241227T173000
DTSTAMP:20260422T161925
CREATED:20240704T140030Z
LAST-MODIFIED:20240704T140030Z
UID:15172-1735315200-1735320600@alltomsyntolkning.nu
SUMMARY:ALICE I UNDERLANDET
DESCRIPTION:Arrangör:\nMalmö Stadsteater i samarbete med Syntolkning Nu. \nHANDLING:\n\n\nFölj med nyfikna Alice på hennes spännande äventyr till andra sidan av kaninhålet\, där fantasin och verkligheten möts på ett förtrollande sätt. I vår uppdaterade version full av popmusik har Alice precis fått en lillebror och irriterar sig på att föräldrarnas liv plötsligt kretsar kring den lille som bara skriker och är jobbig. Alla säger att hon är en stor flicka nu men hon är ju samma Alice som innan lillebror kom\, det är alla andra som har förändrats! När en stressad vit kanin plötsligt dyker upp i Alice vardagsrum och tar hennes mobiltelefon vänds allt upp och ner. Hon försvinner in i en surrealistisk drömvärld och träffar de välkända klassiska figurerna som Hattmakaren\, Filurkatten\, Kålmasken och Hjärter Dam. Men varför är det så bråttom hela tiden\, och vilken väg ska Alice ta? \n\n\n\n\nMEDVERKANDE:\nIDA KNAPP DROUGGE\, ANDRÉ GATU\, MALIN KARLSSON\, SUSANNE KARLSSON\, FILIP LUNDIN\, JOHN NJIE\, RONJA SVEDMARK\, JOHANNES WANSELOW OCH VICTOR STÅHL SEGERHAGEN \n\n\nVIKTIGT OM SYNTOLKNINGEN: \nGruppen träffas 45 minuter innan föreställningen\, för att bland annat träffa ensemblen som presenterar sig på scenen. Man får då också låna mottagare för syntolkningen. \nANGÅENDE BOKNING AV BILJETTER: \nBiljett med syntolkning bokas via biljettkassan på telefonnummer 040-20 86 00 senast 14 dagar innan föreställningen äger rum. Biljettpriset är detsamma som ordinarie. Medföljande ledsagare går gratis. Plats för ledsagare bokas i samband med bokning av syntolkad föreställningen.
URL:https://alltomsyntolkning.nu/event/alice-i-underlandet/
LOCATION:Hippodromen\, Malmö\, 211 35\, Sverige
CATEGORIES:Familjeteater,Ledsagare utan kostnad,Malmö Stadsteater
ATTACH;FMTTYPE=image/jpeg:https://alltomsyntolkning.nu/wp-content/uploads/Skarmavbild-2024-07-04-kl.-15.53.06.jpg
END:VEVENT
END:VCALENDAR