BEGIN:VCALENDAR
VERSION:2.0
PRODID:-//Allt om syntolkning - ECPv6.0.13.1//NONSGML v1.0//EN
CALSCALE:GREGORIAN
METHOD:PUBLISH
X-WR-CALNAME:Allt om syntolkning
X-ORIGINAL-URL:https://alltomsyntolkning.nu
X-WR-CALDESC:Events for Allt om syntolkning
REFRESH-INTERVAL;VALUE=DURATION:PT1H
X-Robots-Tag:noindex
X-PUBLISHED-TTL:PT1H
BEGIN:VTIMEZONE
TZID:Europe/Stockholm
BEGIN:DAYLIGHT
TZOFFSETFROM:+0100
TZOFFSETTO:+0200
TZNAME:CEST
DTSTART:20250330T010000
END:DAYLIGHT
BEGIN:STANDARD
TZOFFSETFROM:+0200
TZOFFSETTO:+0100
TZNAME:CET
DTSTART:20251026T010000
END:STANDARD
END:VTIMEZONE
BEGIN:VEVENT
DTSTART;TZID=Europe/Stockholm:20251203T190000
DTEND;TZID=Europe/Stockholm:20251203T213000
DTSTAMP:20260420T222923
CREATED:20250828T081137Z
LAST-MODIFIED:20250828T081137Z
UID:16306-1764788400-1764797400@alltomsyntolkning.nu
SUMMARY:ÅRHUNDRADETS KÄRLEKSSAGA
DESCRIPTION:Arrangör:\nMalmö Stadsteater i samarbete med Syntolkning Nu. \nHANDLING:\nEn poetisk berättelse om kampen att få skriva och skapa vid sidan av sin man – att stå i bredd och inte försvinna bland skuggorna. Att erövra sitt skrivbord\, att skriva om livet med all dess svårighet. Längtan efter att beskriva doften av syren medan gröten kokar över\, när bussen ska gå och ett ilsket barn hellre vill spela pingis. Det eviga snurrandet i livets hjul\, att räcka till som partner\, mamma\, dotter\, vän – och en stund få räcka till bara för sig själv. Att få vara sitt eget formulerade jag. I centrum står den skrivande kvinnan som försöker göra sin röst hörd\, i skuggan av missbruket som tränger in i livets innersta. När våldet tar vid där orden tagit slut. Att älska besinningslöst trots allt. \nMEDVERKANDE:\nIda Knapp Drougge\, Mari Götesdotter och Katarina Lundgren-Hugg \nVIKTIGT OM SYNTOLKNINGEN: \nGruppen träffas 45 minuter innan föreställningen\, för att bland annat träffa ensemblen som presenterar sig på scenen. Man får då också låna mottagare för syntolkningen. \nANGÅENDE BOKNING AV BILJETTER: \nBiljett med syntolkning bokas via biljettkassan på telefonnummer 040-20 86 00 senast 14 dagar innan föreställningen äger rum. Biljettpriset är detsamma som ordinarie. Medföljande ledsagare går gratis. Plats för ledsagare bokas i samband med bokning av syntolkad föreställningen.
URL:https://alltomsyntolkning.nu/event/arhundradets-karlekssaga/
LOCATION:Malmö Stadsteater-Intiman\, Östra Rönneholmsvägen 22\, Malmö\, 211 47
CATEGORIES:Malmö Stadsteater,Teater
ATTACH;FMTTYPE=image/png:https://alltomsyntolkning.nu/wp-content/uploads/saga.png
END:VEVENT
END:VCALENDAR