BEGIN:VCALENDAR
VERSION:2.0
PRODID:-//Allt om syntolkning - ECPv6.0.13.1//NONSGML v1.0//EN
CALSCALE:GREGORIAN
METHOD:PUBLISH
X-ORIGINAL-URL:https://alltomsyntolkning.nu
X-WR-CALDESC:Events for Allt om syntolkning
REFRESH-INTERVAL;VALUE=DURATION:PT1H
X-Robots-Tag:noindex
X-PUBLISHED-TTL:PT1H
BEGIN:VTIMEZONE
TZID:Europe/Stockholm
BEGIN:DAYLIGHT
TZOFFSETFROM:+0100
TZOFFSETTO:+0200
TZNAME:CEST
DTSTART:20260329T010000
END:DAYLIGHT
BEGIN:STANDARD
TZOFFSETFROM:+0200
TZOFFSETTO:+0100
TZNAME:CET
DTSTART:20261025T010000
END:STANDARD
END:VTIMEZONE
BEGIN:VEVENT
DTSTART;TZID=Europe/Stockholm:20260301T160000
DTEND;TZID=Europe/Stockholm:20260301T190000
DTSTAMP:20260424T234753
CREATED:20250225T123024Z
LAST-MODIFIED:20250612T095747Z
UID:15799-1772380800-1772391600@alltomsyntolkning.nu
SUMMARY:COME FROM AWAY
DESCRIPTION:ARRANGÖR:\nSyntolkning Nu i samarbete med Malmö Opera \nHANDLING: \nDen 11 september 2001 stängs luftrummet över USA oväntat\, och 38 flygplan tvingas landa på den halvt bortglömda flygplatsen i Gander på Newfoundland. Plötsligt befinner sig 7 000 personer strandsatta på Kanadas östligaste utpost i Atlanten\, i en liten stad med bara 10 000 invånare. \nTrötta\, hungriga och oroliga\, får passagerarna efter över ett dygn äntligen lämna flygplanen. Var har de hamnat? Hur länge måste de stanna? Vad är det egentligen som hänt i USA? Är deras nära och kära i säkerhet? \nMEDVERKANDE: \nGunilla Backman\, Sharon Dyall\, Kerstin Hilldén\, Åsa Fång\, Sara Lehmann\, Jenny Holmgren\, David Lindell\, Oscar Pierrou Lindén\, m.fl.\nANGÅENDE BOKNING: \nPriset för biljett med syntolkning är 610:-\nLedsagare medföljer utan kostnad.\nLån av mottagare kostar ingenting\, men bör förbokas.\nÖnskat antal biljetter skickas till boka@syntolkning.nu\nAnge namn\, adress\, mobilnummer samt antal biljetter. \nVid köp via Syntolkning Nu tillkommer en portoavgift samt\, för icke medlemmar\, en administrativ avgift om 35 kronor.\nHar man bokat egna biljetter till detta evenemang\, så går det också bra att ta del av syntolkning. Beställ gratis mottagare. Samling för syntolkningen 45 minuter innan.\nFrågor om evenemanget kontakta boka@syntolkning.nu\nTelefon 0730-345112 \nKöpta biljetter kan enligt arrangörens bestämmelser inte återlämnas. Vid inställt evenemang gäller arrangörens regler. \nBiljetter kan även köpas direkt av arrangören. \nÖvrigt:\nHar man bokat egna biljetter till detta evenemang\, så går det också bra att ta del av syntolkning. Beställ gratis mottagare. Vid behov av ledsagare eller frågor om evenemanget kontakta boka@syntolkning.nu\nVi träffas i teaterfoajén en timma innan föreställningsstart.
URL:https://alltomsyntolkning.nu/event/come-from-away/
LOCATION:Malmöopera\, Östra Rönneholmsv 20\, Malmö\, Sverige
CATEGORIES:Ledsagare utan kostnad,Malmö opera,Musikal
ATTACH;FMTTYPE=image/jpeg:https://alltomsyntolkning.nu/wp-content/uploads/comefrom_1000.jpg
END:VEVENT
BEGIN:VEVENT
DTSTART;TZID=Europe/Stockholm:20260321T190000
DTEND;TZID=Europe/Stockholm:20260321T212000
DTSTAMP:20260424T234753
CREATED:20251207T092115Z
LAST-MODIFIED:20251207T093457Z
UID:16442-1774119600-1774128000@alltomsyntolkning.nu
SUMMARY:INGVAR
DESCRIPTION:ARRANGÖR:\nKulturhuset Spira i samarbete med Syntolkning Nu \nOM FÖRESTÄLLNINGEN: \nUpplev en underfundig hyllning till Smålands mest folkkäre entreprenör! Med högt tempo och massor av sång\, musik och dans driver Ingvar! kärleksfullt med det allra svenskaste vi har. \nFörbered dig på en finurlig föreställning med en rejäl dos glimten i ögat. Varken den svenska identiteten eller den goda kapitalismen går säker när sju sjungande skådespelare och två musiker berättar historien om möbelvaruhusets superstar Ingvar Kamprad. \nMEDVERKANDE:\nRobert Rydberg\, Kalle Malmberg\, Hanna Schön\, Vera Veljovicl\, med flera \nAngående bokning:\nBiljetter käps via teaterns biljettkassa\, Telefon: 010 – 242 80 80. Biljetterna är bokade ända fram till dess att full betalning skett. Fram till dess kan antalet biljetter justeras.\nKöpta biljetter kan enligt arrangörens bestämmelser inte återlämnas. Vid inställt evenemang gäller arrangörens regler. \nÖvrigt: \nHar man bokat egna biljetter till detta evenemang\, så går det också bra att ta del av syntolkning. Beställ gratis mottagare. Samling för syntolkningen 60 minuter innan.\nVid behov av ledsagare eller frågor om evenemanget kontakta boka@syntolkning.nu\nTelefon 0730-345112
URL:https://alltomsyntolkning.nu/event/ingvar/
LOCATION:Kulturhuset Spira\, Kulturgatan 3\, Jönköping\, 553 24
CATEGORIES:Ledsagare utan kostnad,Musikal,Teater
ATTACH;FMTTYPE=image/png:https://alltomsyntolkning.nu/wp-content/uploads/ingvar.png
END:VEVENT
BEGIN:VEVENT
DTSTART;TZID=Europe/Stockholm:20260329T160000
DTEND;TZID=Europe/Stockholm:20260329T183000
DTSTAMP:20260424T234753
CREATED:20260218T152022Z
LAST-MODIFIED:20260218T152022Z
UID:16529-1774800000-1774809000@alltomsyntolkning.nu
SUMMARY:ONCE
DESCRIPTION:ARRANGÖR:\n\nSRF Västra Skåne i samarbete med Helsingborgs Stadsteater och Syntolkning Nu \nHANDLING:\nEn musikal om drömmar\, längtan och modet att våga följa sitt hjärta.\nEn fattig gatumusiker och en ensamstående mamma möts av en slump i Dublins brus – och i tystnaden däremellan uppstår något oväntat. Något som inte låter sig förklaras\, bara upplevas. Det här är en kärlekshistoria som med värme och musik\, låter två människor mötas under några intensiva dagar. Deras möte blir till en bitterljuv kärlekssaga som inte följer några regler \,där hon och han helas\, både genom musiken men framför allt genom varandra. \nMEDVERKANDE:\nEvamaria Björk\, Sakib Zabbar\, Elin Norin\, Nils Dernevik\, Tobias Borvin\, Emma Karlsson\, Gustav Schriver\, Andreas Eldeen\, Anna Thorstensson\, Anna-Maria Hallgarn\, Hedvig Becker Dernevik\, Bonnie Lundell och Sofia Mustaniemi\n\n \nAngående bokning: \nFör biljettfrågor: ombud@helsingborg.se\nTelefon: 042-10 68 10 \nÖvrigt:\nRekommenderad ålder: från 8 år.\nHar man bokat egna biljetter till detta evenemang\, så går det också bra att ta del av syntolkning. Beställ gratis mottagare. Vid behov av ledsagare eller frågor om evenemanget kontakta boka@syntolkning.nu Telefon 0730 – 345112
URL:https://alltomsyntolkning.nu/event/once/
LOCATION:Helsingborgs Stadsteater\, Karl Johans gata 1\, Helsingborg\, 252 67
CATEGORIES:Musikal
ATTACH;FMTTYPE=image/jpeg:https://alltomsyntolkning.nu/wp-content/uploads/Once-Bild-1200x628-px-1.jpg
END:VEVENT
END:VCALENDAR