BEGIN:VCALENDAR
VERSION:2.0
PRODID:-//Allt om syntolkning - ECPv6.0.13.1//NONSGML v1.0//EN
CALSCALE:GREGORIAN
METHOD:PUBLISH
X-WR-CALNAME:Allt om syntolkning
X-ORIGINAL-URL:https://alltomsyntolkning.nu
X-WR-CALDESC:Events for Allt om syntolkning
REFRESH-INTERVAL;VALUE=DURATION:PT1H
X-Robots-Tag:noindex
X-PUBLISHED-TTL:PT1H
BEGIN:VTIMEZONE
TZID:Europe/Stockholm
BEGIN:DAYLIGHT
TZOFFSETFROM:+0100
TZOFFSETTO:+0200
TZNAME:CEST
DTSTART:20240331T010000
END:DAYLIGHT
BEGIN:STANDARD
TZOFFSETFROM:+0200
TZOFFSETTO:+0100
TZNAME:CET
DTSTART:20241027T010000
END:STANDARD
END:VTIMEZONE
BEGIN:VEVENT
DTSTART;TZID=Europe/Stockholm:20240302T150000
DTEND;TZID=Europe/Stockholm:20240302T181500
DTSTAMP:20260422T004446
CREATED:20230614T083327Z
LAST-MODIFIED:20240209T101748Z
UID:13687-1709391600-1709403300@alltomsyntolkning.nu
SUMMARY:WICKED
DESCRIPTION:ARRANGÖR:\n\nSyntolkning Nu i samarbete med GöteborgsOperan \nHANDLING:\nMusikalen Wicked berättar historien om vad som hände i landet Oz innan Dorothy kom dit (i den klassiska filmen Trollkarlen från Oz)\, ur de båda häxornas perspektiv. Hur de omaka vännerna Elphaba och Galinda fann varandra\, blev till den onda respektive den goda häxan och lyckades besegra den elake trollkarlens tyranni. Det är en historia om utanförskap\, mod och kärlek\, berättad med magi\, fantasi och fantastisk musik. Flera av låtarna\, bland annat ”Defying gravity”\, har blivit stora hits. \nMEDVERKANDE:\nAnna Salonen\, Feline Andersson\, Vera Veljovic\, Max Jansson\, Sofia Mustaniemi\, Oskar H Olsson\, Ole Forsberg\, David Lundqvist\, m.fl.\n\nÖvrigt:\nHar man bokat egna biljetter till detta evenemang\, så går det också bra att ta del av syntolkning. Beställ gratis mottagare. Vid behov av ledsagare eller frågor om evenemanget kontakta boka@syntolkning.nu Telefon 031-3608445 \nAngående bokning: \nVid köp via Syntolkning Nu tillkommer en portoavgift samt\, för icke medlemmar\, en administrativ avgift om 35 kronor.\nBiljetterna är bokade ända fram till dess att full betalning skett. Fram till dess kan antalet biljetter justeras. Köpta biljetter kan enligt arrangörens bestämmelser inte återlämnas. Vid inställt evenemang gäller arrangörens regler.
URL:https://alltomsyntolkning.nu/event/wicked/
LOCATION:GöteborgsOperan\, Christina Nilssons Gata\, Göteborg\, Sverige
CATEGORIES:Familjeteater,GöteborgsOperan,Musikal,Teater
ATTACH;FMTTYPE=image/jpeg:https://alltomsyntolkning.nu/wp-content/uploads/wicke.jpeg
END:VEVENT
END:VCALENDAR