BEGIN:VCALENDAR
VERSION:2.0
PRODID:-//Allt om syntolkning - ECPv6.0.13.1//NONSGML v1.0//EN
CALSCALE:GREGORIAN
METHOD:PUBLISH
X-WR-CALNAME:Allt om syntolkning
X-ORIGINAL-URL:https://alltomsyntolkning.nu
X-WR-CALDESC:Events for Allt om syntolkning
REFRESH-INTERVAL;VALUE=DURATION:PT1H
X-Robots-Tag:noindex
X-PUBLISHED-TTL:PT1H
BEGIN:VTIMEZONE
TZID:Europe/Stockholm
BEGIN:DAYLIGHT
TZOFFSETFROM:+0100
TZOFFSETTO:+0200
TZNAME:CEST
DTSTART:20240331T010000
END:DAYLIGHT
BEGIN:STANDARD
TZOFFSETFROM:+0200
TZOFFSETTO:+0100
TZNAME:CET
DTSTART:20241027T010000
END:STANDARD
END:VTIMEZONE
BEGIN:VEVENT
DTSTART;TZID=Europe/Stockholm:20240320T190000
DTEND;TZID=Europe/Stockholm:20240320T210000
DTSTAMP:20260420T043834
CREATED:20231013T110745Z
LAST-MODIFIED:20240218T180340Z
UID:14282-1710961200-1710968400@alltomsyntolkning.nu
SUMMARY:TICK\, TICK...BOOM
DESCRIPTION:Arrangör:\nMalmö Stadsteater i samarbete med Syntolkning Nu. \nHANDLING:\n\n\nVad gör jag med mitt liv? Vad väntar jag på? Varför händer inget?\nJonathan Larsons prisbelönade självbiografiska rockmusikal om 30-årskrisen och drömmen om det stora Broadway-genombrottet.\nJons 30-årsdag närmar sig med stormsteg. Hur ska han hinna med allt – han har ju inte ens ett riktigt jobb! Det är tidigt 90-tal i New York. Jon är en lovande kreativ teaterkompositör som drömmer om det stora Broadway-genombrottet. Det går segt\, han harvar sig fram och försörjer sig som servitör på en diner. All övrig tid jobbar han envist på med en musikal han skrivit på i åtta år men försummar både flickvännen Susan och bästa vännen Michael. Jon slits mellan konstnärskapet och verkligheten. Klockan tickar och kraven växer – detta kanske faktiskt är på liv och död? \n\n\n\n\nMEDVERKANDE:\nALEX JUBELL\, ERIK ESPINOZA\, MERCEDESZ CSAMPAI\, M.FL. \n\n\nVIKTIGT OM SYNTOLKNINGEN: \nGruppen träffas 45 minuter innan föreställningen\, för att bland annat träffa ensemblen som presenterar sig på scenen. Man får då också låna mottagare för syntolkningen. \nANGÅENDE BOKNING AV BILJETTER: \nBiljett med syntolkning bokas via biljettkassan på telefonnummer 040-20 86 00 senast 14 dagar innan föreställningen äger rum. Biljettpriset är detsamma som ordinarie. Medföljande ledsagare går gratis. Plats för ledsagare bokas i samband med bokning av syntolkad föreställningen.
URL:https://alltomsyntolkning.nu/event/tick-tick-boom/
LOCATION:Hippodromen\, Malmö\, 211 35\, Sverige
CATEGORIES:Ledsagare utan kostnad,Malmö Stadsteater,Musikal,Teater
ATTACH;FMTTYPE=image/jpeg:https://alltomsyntolkning.nu/wp-content/uploads/tick1.jpg
END:VEVENT
END:VCALENDAR