BEGIN:VCALENDAR
VERSION:2.0
PRODID:-//Allt om syntolkning - ECPv6.0.13.1//NONSGML v1.0//EN
CALSCALE:GREGORIAN
METHOD:PUBLISH
X-WR-CALNAME:Allt om syntolkning
X-ORIGINAL-URL:https://alltomsyntolkning.nu
X-WR-CALDESC:Events for Allt om syntolkning
REFRESH-INTERVAL;VALUE=DURATION:PT1H
X-Robots-Tag:noindex
X-PUBLISHED-TTL:PT1H
BEGIN:VTIMEZONE
TZID:Europe/Stockholm
BEGIN:DAYLIGHT
TZOFFSETFROM:+0100
TZOFFSETTO:+0200
TZNAME:CEST
DTSTART:20240331T010000
END:DAYLIGHT
BEGIN:STANDARD
TZOFFSETFROM:+0200
TZOFFSETTO:+0100
TZNAME:CET
DTSTART:20241027T010000
END:STANDARD
END:VTIMEZONE
BEGIN:VEVENT
DTSTART;TZID=Europe/Stockholm:20241113T190000
DTEND;TZID=Europe/Stockholm:20241113T204500
DTSTAMP:20260424T034356
CREATED:20240613T090048Z
LAST-MODIFIED:20240601T092712Z
UID:15076-1731524400-1731530700@alltomsyntolkning.nu
SUMMARY:TICK TICK....BOOM!
DESCRIPTION:ARRANGÖR:\n\nRiksteaterföreningen i Lund i samarbete med Syntolkning Nu \nHANDLING:\nVad gör jag med mitt liv? Vad väntar jag på? Varför händer inget?\nRockmusikal som hyllar konsten\, vänskapen och livet. Det är 1990-tal. Ingen har mobiltelefon\, internet är knapp uppfunnet\, aids-epidemin härjar. Jon är en ung musiker med stora drömmar. Han kämpar med skrivandet och hankar sig fram. Men inget händer. Klockan tickar… Hur mycket är det värt att offra för sin dröm? Hur mycket tid har man?Jonathan Larsons prisbelönade självbiografiska rockmusikal om 30-årskrisen och drömmen om det stora Broadway-genombrottet. \nJons 30-årsdag närmar sig med stormsteg. Hur ska han hinna med allt – han har ju inte ens ett riktigt jobb! Det är tidigt 90-tal i New York. Jon är en lovande kreativ teaterkompositör som drömmer om det stora Broadway-genombrottet. Det går segt\, han harvar sig fram och försörjer sig som servitör på en diner. All övrig tid jobbar han envist på med en musikal han skrivit på i åtta år men försummar både flickvännen Susan och bästa vännen Michael. Jon slits mellan konstnärskapet och verkligheten. Klockan tickar och kraven växer – detta kanske faktiskt är på liv och död? \nMEDVERKANDE:\nALEX JUBELL\, ERIK ESPINOZA\, MERCEDESZ CSAMPAI\, M.FL. \n\nÖvrigt:\nHar man bokat egna biljetter till detta evenemang\, så går det också bra att ta del av syntolkning. Beställ gratis mottagare. Vid behov av ledsagare eller frågor om evenemanget kontakta boka@syntolkning.nu Telefon 031-3608445 \nAngående bokning:\nBiljetter kan köpas via Visit Lund\, tel 046-131415.  Köpta biljetter kan enligt arrangörens bestämmelser inte återlämnas. Vid inställt evenemang gäller arrangörens regler
URL:https://alltomsyntolkning.nu/event/tick-tick-boom-2/
LOCATION:Lunds Stadsteater\, Kiliansgatan 13\, Lund\, 223 50
CATEGORIES:Ledsagare utan kostnad,Musikal
ATTACH;FMTTYPE=image/jpeg:https://alltomsyntolkning.nu/wp-content/uploads/tick1.jpg
END:VEVENT
END:VCALENDAR