BEGIN:VCALENDAR
VERSION:2.0
PRODID:-//Allt om syntolkning - ECPv6.0.13.1//NONSGML v1.0//EN
CALSCALE:GREGORIAN
METHOD:PUBLISH
X-WR-CALNAME:Allt om syntolkning
X-ORIGINAL-URL:https://alltomsyntolkning.nu
X-WR-CALDESC:Events for Allt om syntolkning
REFRESH-INTERVAL;VALUE=DURATION:PT1H
X-Robots-Tag:noindex
X-PUBLISHED-TTL:PT1H
BEGIN:VTIMEZONE
TZID:Europe/Stockholm
BEGIN:DAYLIGHT
TZOFFSETFROM:+0100
TZOFFSETTO:+0200
TZNAME:CEST
DTSTART:20260329T010000
END:DAYLIGHT
BEGIN:STANDARD
TZOFFSETFROM:+0200
TZOFFSETTO:+0100
TZNAME:CET
DTSTART:20261025T010000
END:STANDARD
END:VTIMEZONE
BEGIN:VEVENT
DTSTART;TZID=Europe/Stockholm:20261018T143000
DTEND;TZID=Europe/Stockholm:20261018T170000
DTSTAMP:20260421T085434
CREATED:20260318T093231Z
LAST-MODIFIED:20260318T093231Z
UID:16574-1792333800-1792342800@alltomsyntolkning.nu
SUMMARY:GREASE THE MUSICAL
DESCRIPTION:ARRANGÖR:\nSyntolkning Nu i samarbete med  2Entertain och Liseberg \nHANDLING:\nSandy och Danny – två unga människor som försöker hitta sig själva\, varandra och sin plats i gemenskapen. En berättelse om kärlek\, identitet\, vänskap och modet att våga vara den man är – lika relevant idag som när Grease först såg dagens ljus. \nDenna uppsättning är en uppdaterad tolkning – snabbare\, snyggare och mer visuell – med full respekt för originalet. Resultatet är en musikal som förenar nostalgi med nutid och levererar storslagen underhållning.\nGrease The Musical  är den ultimata feelgood-upplevelsen – perfekt för en kväll med vänner\, en dejt\, kollegor eller familjen. En föreställning för alla generationer som lämnar publiken euforisk. \nMEDVERKANDE: \nLovisa Bengtsson\, Anton Ewald\, Boris René\, Pia Tärnström\, Vanja Engström\, Arantxa Álvarez\, Anna Mannheimer\, Nils Reinholtz\, Emil Henrohn m.fl. \nANGÅENDE BOKNING: \nRekommenderas från 13 år\nÖnskat antal biljetter skickas till boka@syntolkning.nu\nAnge namn\, adress\, mobilnummer samt antal biljetter.\nPriset för biljett med syntolkning är 995:-\, även ledsagare\nLån av mottagare kostar ingenting\, men bör förbokas. \nVid köp via Syntolkning Nu tillkommer en portoavgift samt\, för icke medlemmar\, en administrativ avgift om 45 kronor.\nHar man bokat egna biljetter till detta evenemang\, så går det också bra att ta del av syntolkning. Beställ gratis mottagare. Samling för syntolkningen 60 minuter innan.\nFrågor om evenemanget kontakta boka@syntolkning.nu\nTelefon 0730-345112 \nKöpta biljetter kan enligt arrangörens bestämmelser inte återlämnas. Vid inställt evenemang gäller arrangörens regler. \nBiljetter kan även köpas direkt av arrangören.
URL:https://alltomsyntolkning.nu/event/grease-the-musical/
LOCATION:Rondo\, Örgrytevägen 5\, Göteborg\, 402 22
CATEGORIES:Musikal
ATTACH;FMTTYPE=image/jpeg:https://alltomsyntolkning.nu/wp-content/uploads/grease.jpg
END:VEVENT
END:VCALENDAR