BEGIN:VCALENDAR
VERSION:2.0
PRODID:-//Allt om syntolkning - ECPv6.0.13.1//NONSGML v1.0//EN
CALSCALE:GREGORIAN
METHOD:PUBLISH
X-ORIGINAL-URL:https://alltomsyntolkning.nu
X-WR-CALDESC:Events for Allt om syntolkning
REFRESH-INTERVAL;VALUE=DURATION:PT1H
X-Robots-Tag:noindex
X-PUBLISHED-TTL:PT1H
BEGIN:VTIMEZONE
TZID:Europe/Stockholm
BEGIN:DAYLIGHT
TZOFFSETFROM:+0100
TZOFFSETTO:+0200
TZNAME:CEST
DTSTART:20250330T010000
END:DAYLIGHT
BEGIN:STANDARD
TZOFFSETFROM:+0200
TZOFFSETTO:+0100
TZNAME:CET
DTSTART:20251026T010000
END:STANDARD
END:VTIMEZONE
BEGIN:VEVENT
DTSTART;TZID=Europe/Stockholm:20251120T190000
DTEND;TZID=Europe/Stockholm:20251120T213000
DTSTAMP:20260423T170448
CREATED:20251117T152507Z
LAST-MODIFIED:20251117T152507Z
UID:16397-1763665200-1763674200@alltomsyntolkning.nu
SUMMARY:Tristan och Isolde
DESCRIPTION:ARRANGÖR:\nNorrlandsoperan \nHANDLING: \nSe teaterns hemsida \nAngående bokning: \nRing biljettkassan för bokning av syntolkad föreställning.
URL:https://alltomsyntolkning.nu/event/tristan-och-isolde/
LOCATION:Norrlandsoperan\, Operaplan 5\, Umeå\, 903 29
CATEGORIES:Opera
ATTACH;FMTTYPE=image/jpeg:https://alltomsyntolkning.nu/wp-content/uploads/Skarmavbild-2025-11-17-kl.-16.24.11.jpg
END:VEVENT
END:VCALENDAR