BEGIN:VCALENDAR
VERSION:2.0
PRODID:-//Allt om syntolkning - ECPv6.0.13.1//NONSGML v1.0//EN
CALSCALE:GREGORIAN
METHOD:PUBLISH
X-WR-CALNAME:Allt om syntolkning
X-ORIGINAL-URL:https://alltomsyntolkning.nu
X-WR-CALDESC:Events for Allt om syntolkning
REFRESH-INTERVAL;VALUE=DURATION:PT1H
X-Robots-Tag:noindex
X-PUBLISHED-TTL:PT1H
BEGIN:VTIMEZONE
TZID:Europe/Stockholm
BEGIN:DAYLIGHT
TZOFFSETFROM:+0100
TZOFFSETTO:+0200
TZNAME:CEST
DTSTART:20250330T010000
END:DAYLIGHT
BEGIN:STANDARD
TZOFFSETFROM:+0200
TZOFFSETTO:+0100
TZNAME:CET
DTSTART:20251026T010000
END:STANDARD
END:VTIMEZONE
BEGIN:VEVENT
DTSTART;TZID=Europe/Stockholm:20250207T163000
DTEND;TZID=Europe/Stockholm:20250207T190000
DTSTAMP:20260424T052052
CREATED:20241124T104138Z
LAST-MODIFIED:20241124T104138Z
UID:15563-1738945800-1738954800@alltomsyntolkning.nu
SUMMARY:SKRUVAT - EN HELT VRIDEN REVY
DESCRIPTION:ARRANGÖR:\n\nSyntolkning Nu i samarbete med Jörlanda buss och Falkenbergsrevyn \nHANDLING:\nFalkenbergsrevyn skruvar till det rejält!\nEfter en succéfylld säsong är Falkenbergsrevyn tillbaka till vintern med en ny härlig revy.\nDet kommer att skojas rejält med vår lätt korkade värld och på scen får ni träffa samma succégäng som senast.\nDet blir en föreställning fylld av humor\, satir och musik som vänder och vrider på allt. Revyn\nskojar som vanligt på ett lekfullt sätt med vår samtid. Helt enkelt revy när den är som bäst. \nMEDVERKANDE:\nAnna Carlsson\, Håkan Runevad\, Bertil Schough\, Linnea Lexfors\, Beppe Wackelin\, Daniel Träff\, Bernt Bengtsson\, Fredrik Vahlgren och Emelie Alm\n\nÖvrigt:\nHar man bokat egna biljetter till detta evenemang\, så går det också bra att ta del av syntolkning. Beställ gratis mottagare. Vid behov av ledsagare eller frågor om evenemanget kontakta boka@syntolkning.nu Telefon 031-3608445\nVi träffas i teaterfoajén en timma innan föreställningstart. \nAngående bokning: \nBiljetter köps direkt via Falkenbergs Stadsteater.\nKöpta biljetter kan enligt arrangörens bestämmelser inte återlämnas. Vid inställt evenemang gäller arrangörens regler.
URL:https://alltomsyntolkning.nu/event/skruvat-en-helt-vriden-revy/
LOCATION:Falkenbergs Stadsteater\, Holgersgatan 9\, Falkeneberg\, 311 35
CATEGORIES:Revy
ATTACH;FMTTYPE=image/jpeg:https://alltomsyntolkning.nu/wp-content/uploads/Skruvat-1000x500-1.jpg
END:VEVENT
BEGIN:VEVENT
DTSTART;TZID=Europe/Stockholm:20250222T153000
DTEND;TZID=Europe/Stockholm:20250222T173000
DTSTAMP:20260424T052052
CREATED:20240814T082531Z
LAST-MODIFIED:20250111T144456Z
UID:15209-1740238200-1740245400@alltomsyntolkning.nu
SUMMARY:SKRUVAT - EN HELT VRIDEN REVY
DESCRIPTION:ARRANGÖR:\n\nSyntolkning Nu i samarbete med SRF Halland och Falkenbergsrevyn \nHANDLING:\nFalkenbergsrevyn skruvar till det rejält!\nEfter en succéfylld säsong är Falkenbergsrevyn tillbaka till vintern med en ny härlig revy.\nDet kommer att skojas rejält med vår lätt korkade värld och på scen får ni träffa samma succégäng som senast.\nDet blir en föreställning fylld av humor\, satir och musik som vänder och vrider på allt. Revyn\nskojar som vanligt på ett lekfullt sätt med vår samtid. Helt enkelt revy när den är som bäst. \nMEDVERKANDE:\nAnna Carlsson\, Håkan Runevad\, Bertil Schough\, Linnea Lexfors\, Beppe Wackelin\, Daniel Träff\, Bernt Bengtsson\, Fredrik Vahlgren och Emelie Alm\n\nÖvrigt:\nHar man bokat egna biljetter till detta evenemang\, så går det också bra att ta del av syntolkning. Beställ gratis mottagare. Vid behov av ledsagare eller frågor om evenemanget kontakta boka@syntolkning.nu Telefon 031-3608445\nVi träffas i teaterfoajén en timma innan föreställningstart. \nAngående bokning: \nVid köp via Syntolkning Nu tillkommer en portoavgift samt\, för icke medlemmar\, en administrativ avgift om 35 kronor.\nBiljetterna är bokade ända fram till dess att full betalning skett. Fram till dess kan antalet biljetter justeras. Köpta biljetter kan enligt arrangörens bestämmelser inte återlämnas. Vid inställt evenemang gäller arrangörens regler.
URL:https://alltomsyntolkning.nu/event/skruvat/
LOCATION:Falkenbergs Stadsteater\, Holgersgatan 9\, Falkeneberg\, 311 35
CATEGORIES:Revy
ATTACH;FMTTYPE=image/jpeg:https://alltomsyntolkning.nu/wp-content/uploads/Skruvat-1000x500-1.jpg
END:VEVENT
END:VCALENDAR