BEGIN:VCALENDAR
VERSION:2.0
PRODID:-//Allt om syntolkning - ECPv6.0.13.1//NONSGML v1.0//EN
CALSCALE:GREGORIAN
METHOD:PUBLISH
X-WR-CALNAME:Allt om syntolkning
X-ORIGINAL-URL:https://alltomsyntolkning.nu
X-WR-CALDESC:Events for Allt om syntolkning
REFRESH-INTERVAL;VALUE=DURATION:PT1H
X-Robots-Tag:noindex
X-PUBLISHED-TTL:PT1H
BEGIN:VTIMEZONE
TZID:Europe/Stockholm
BEGIN:DAYLIGHT
TZOFFSETFROM:+0100
TZOFFSETTO:+0200
TZNAME:CEST
DTSTART:20240331T010000
END:DAYLIGHT
BEGIN:STANDARD
TZOFFSETFROM:+0200
TZOFFSETTO:+0100
TZNAME:CET
DTSTART:20241027T010000
END:STANDARD
END:VTIMEZONE
BEGIN:VEVENT
DTSTART;TZID=Europe/Stockholm:20240818T140000
DTEND;TZID=Europe/Stockholm:20240818T153000
DTSTAMP:20260425T010635
CREATED:20240614T103252Z
LAST-MODIFIED:20240731T205232Z
UID:15119-1723989600-1723995000@alltomsyntolkning.nu
SUMMARY:Mölndalsrevyn - inställt
DESCRIPTION:ARRANGÖR:\nSRF Göteborg \nHANDLING: \nSommarrevy i parken – en jubileumskavalkad\nSom en del av sitt jubileumsår flyttar Mölndalsrevyn utomhus! Under helgen 17-18 augusti kommer de att spela en sommarrevy utomhus i Åbybergsparken. De kommer att bjuda på några av sina bästa nummer genom åren med fokus på skratt och härlig musik. Medverkar gör de flesta från årets ensemble tillsammans med några tidigare mölndalsrevyare och en fyrmannaorkester. \nAngående bokning: \nkontakta aktivitetsledare Berit Sandsjö på telefon: 070-62 94 589.
URL:https://alltomsyntolkning.nu/event/molndalsrevyn/
LOCATION:Åbybergsparken\, Frölundagatan 27A\, Mölndal\, 431 30
CATEGORIES:Revy,Utomhus
ATTACH;FMTTYPE=image/jpeg:https://alltomsyntolkning.nu/wp-content/uploads/mrevy.jpg
END:VEVENT
END:VCALENDAR