BEGIN:VCALENDAR
VERSION:2.0
PRODID:-//Allt om syntolkning - ECPv6.0.13.1//NONSGML v1.0//EN
CALSCALE:GREGORIAN
METHOD:PUBLISH
X-ORIGINAL-URL:https://alltomsyntolkning.nu
X-WR-CALDESC:Events for Allt om syntolkning
REFRESH-INTERVAL;VALUE=DURATION:PT1H
X-Robots-Tag:noindex
X-PUBLISHED-TTL:PT1H
BEGIN:VTIMEZONE
TZID:Europe/Stockholm
BEGIN:DAYLIGHT
TZOFFSETFROM:+0100
TZOFFSETTO:+0200
TZNAME:CEST
DTSTART:20260329T010000
END:DAYLIGHT
BEGIN:STANDARD
TZOFFSETFROM:+0200
TZOFFSETTO:+0100
TZNAME:CET
DTSTART:20261025T010000
END:STANDARD
END:VTIMEZONE
BEGIN:VEVENT
DTSTART;TZID=Europe/Stockholm:20261001T190000
DTEND;TZID=Europe/Stockholm:20261001T210000
DTSTAMP:20260424T145846
CREATED:20260315T143036Z
LAST-MODIFIED:20260315T143036Z
UID:16571-1790881200-1790888400@alltomsyntolkning.nu
SUMMARY:JANE EYRE
DESCRIPTION:Arrangör:\nBorås Stadsteater i samarbete med Syntolkning Nu. \nHANDLING:\n\n\nSveps med till 1800-talets England i ett romantiskt kostymdrama baserat på en av litteraturhistoriens stora triumfer. \nDen föräldralösa och fattiga Jane Eyre fostras av en rad stränga och hjärtlösa förmyndare till att hålla sin livsglädje tillbaka. En del av henne stängs undan – tills hon anländer som guvernant vid Thornfield Hall. Husets bryske och gåtfulle herre\, Mr Rochester\, väcker oväntat något dolt till liv inom Jane. Snart byts ensamhet och längtan mot en passionerad och omvälvande romans. Men när märkliga händelser långsamt börjar avtäcka mörka hemligheter bakom fasaden på Thornfield Hall tvingas Jane till ett hjärtskärande val mellan kärlek och övertygelse. \n\n\n\n\nMEDVERKANDE: \nRubina Banfield\, Tehilla Blad\, Anna-Klara Dahlén\, Maurits Elvingsson\, Viktoria Folkesson\, Rebecka Josephson\, Alexandro Soltani\, Hilda Stenshäll och Oskar Webrell \n\n\nVIKTIGT OM SYNTOLKNINGEN: \nGruppen träffas en timma innan föreställningen\, för att bland annat träffa ensemblen som presenterar sig på scenen. Man får då också låna mottagare för syntolkningen. \nANGÅENDE BOKNING AV BILJETTER: \nBiljett med syntolkning bokas via biljettkassan på telefonnummer 033-35 35 35 senast 14 dagar innan föreställningen äger rum. Biljettpriset är detsamma som ordinarie. Medföljande ledsagare går gratis. Plats för ledsagare bokas i samband med bokning av syntolkad föreställningen. \nLån av mottagare kostar ingenting\, men bör förbokas.\nSkickas önskemål till boka@syntolkning.nu \n 
URL:https://alltomsyntolkning.nu/event/jane-eyre/
LOCATION:Borås Stadsteater\, P.A. Halls Terrass\, Borås\, 504 56\, Sverige
CATEGORIES:Ledsagare utan kostnad,Teater
ATTACH;FMTTYPE=image/jpeg:https://alltomsyntolkning.nu/wp-content/uploads/jane.jpg
END:VEVENT
BEGIN:VEVENT
DTSTART;TZID=Europe/Stockholm:20261013T190000
DTEND;TZID=Europe/Stockholm:20261013T201500
DTSTAMP:20260424T145846
CREATED:20260327T151132Z
LAST-MODIFIED:20260330T152939Z
UID:16625-1791918000-1791922500@alltomsyntolkning.nu
SUMMARY:SLUTSPELAT
DESCRIPTION:ARRANGÖR:\nSyntolkning Nu i samarbete med Kahlo och Lorensbergsteatern \nOM FÖRESTÄLLNINGEN: \nI föreställningen får vi vara med när Marie och Krister väntar i en loge för att marknadsföra pjäsen ”Slutspelat” i ett folkligt TV-program. Publiken får följa med i samtalet och bevittna det personliga mötet mellan de båda skådespelarna. I logen får de också sällskap av den unga produktionsassistenten Rasmus. Produktionsassistentens ovetande förhållningssätt till de två ikonernas tyngd blir startskottet för en rad missförstånd och snubblande övertramp.\nManusförfattare & regissör: Henrik Schyffert \nMEDVERKANDE:\nMarie Göranzon\, Krister Henriksson & Nonni Ardal \nÖvrigt: \nPriset för biljett\, långt fram\, med syntolkning är 695:-\nLån av mottagare kostar ingenting\, men bör förbokas.\nÖnskat antal biljetter skickas till boka@syntolkning.nu\nAnge namn\, adress\, mobilnummer samt antal biljetter.Vid köp via Syntolkning Nu tillkommer en portoavgift samt\, för icke medlemmar\, en administrativ avgift om 50 kronor.\nHar man bokat egna biljetter till detta evenemang\, så går det också bra att ta del av syntolkning. Beställ gratis mottagare. Samling för syntolkningen 45 minuter innan.\nVid behov av ledsagare eller frågor om evenemanget kontakta boka@syntolkning.nu\nTelefon 0730-345112 \nAngående bokning:\nKan köpas via Lorensbergsteaterns biljettkassa tel 031-708 62 00 eller biljettkassan@lorensbergsteatern.se. Biljetterna är bokade ända fram till dess att full betalning skett. Fram till dess kan antalet biljetter justeras.\nKöpta biljetter kan enligt arrangörens bestämmelser inte återlämnas. Vid inställt evenemang gäller arrangörens regler.
URL:https://alltomsyntolkning.nu/event/slutspelat/
LOCATION:Lorensbergsteatern\, Karl Gerhards plats 1\, Göteborg\, Sverige
CATEGORIES:Teater
ATTACH;FMTTYPE=image/jpeg:https://alltomsyntolkning.nu/wp-content/uploads/sluts.jpg
END:VEVENT
END:VCALENDAR