BEGIN:VCALENDAR
VERSION:2.0
PRODID:-//Allt om syntolkning - ECPv6.0.13.1//NONSGML v1.0//EN
CALSCALE:GREGORIAN
METHOD:PUBLISH
X-WR-CALNAME:Allt om syntolkning
X-ORIGINAL-URL:https://alltomsyntolkning.nu
X-WR-CALDESC:Events for Allt om syntolkning
REFRESH-INTERVAL;VALUE=DURATION:PT1H
X-Robots-Tag:noindex
X-PUBLISHED-TTL:PT1H
BEGIN:VTIMEZONE
TZID:Europe/Stockholm
BEGIN:DAYLIGHT
TZOFFSETFROM:+0100
TZOFFSETTO:+0200
TZNAME:CEST
DTSTART:20230326T010000
END:DAYLIGHT
BEGIN:STANDARD
TZOFFSETFROM:+0200
TZOFFSETTO:+0100
TZNAME:CET
DTSTART:20231029T010000
END:STANDARD
END:VTIMEZONE
BEGIN:VEVENT
DTSTART;TZID=Europe/Stockholm:20231010T190000
DTEND;TZID=Europe/Stockholm:20231010T210000
DTSTAMP:20260426T044840
CREATED:20230519T150215Z
LAST-MODIFIED:20230602T082458Z
UID:12492-1696964400-1696971600@alltomsyntolkning.nu
SUMMARY:MAMMA LJUGER
DESCRIPTION:ARRANGÖR:\n\nSRF Ängelholm i samarbete med Syntolkning Nu och Aplato \nHANDLING:\nVi har alla har vi hört uppmaningar som:\n– Äter du snö får du mask i magen!\n– Om du badar direkt efter du ätit får du kramp!\n– Sitt inte för nära tv:n\, du blir blind!\nVar kommer mammas goda råd ifrån? Är det nedärvt från generationer av mammor alltifrån stenåldern eller är mamma med i en hemlig klubb där de kommer överens om att det är tre-sekunders regeln som gäller när man tappar något ätbart på marken? Är det bara myter och halvsanningar eller finns det ett uns av sanning att du måste magpumpas när du äter snorkråkor eller att knaka med knogarna leder till problem när du blir äldre? \nDet finns bara ett sätt att få reda på det; Hälsa på hemma hos Jan och Mattias när de bjuder hem dig till föreställningen Mamma Ljuger \nMEDVERKANDE:\nJan Bylund och Mattias Lundberg \nÖvrigt:\nMan kan även köpa egna biljetter\, via tex bussresa till den aktuella dagen och ändå få ta del av syntolkningen. Beställ gratis mottagare. Vid behov av ledsagare eller frågor om evenemanget kontakta boka@syntolkning.nu Telefon 031-3608445 \nAngående bokning:\nBiljetterna är bokade ända fram till dess att full betalning skett. Fram till dess kan antalet biljetter justeras. Köpta biljetter kan enligt arrangörens bestämmelser inte återlämnas. Vid inställt evenemang gäller arrangörens regler.
URL:https://alltomsyntolkning.nu/event/mamma-ljuger/
LOCATION:Jarl Kulle Scenen\, Skolgatan 4\, Ängelholm
CATEGORIES:Teater
ATTACH;FMTTYPE=image/jpeg:https://alltomsyntolkning.nu/wp-content/uploads/mamma.jpeg
END:VEVENT
END:VCALENDAR