BEGIN:VCALENDAR
VERSION:2.0
PRODID:-//Allt om syntolkning - ECPv6.0.13.1//NONSGML v1.0//EN
CALSCALE:GREGORIAN
METHOD:PUBLISH
X-ORIGINAL-URL:https://alltomsyntolkning.nu
X-WR-CALDESC:Events for Allt om syntolkning
REFRESH-INTERVAL;VALUE=DURATION:PT1H
X-Robots-Tag:noindex
X-PUBLISHED-TTL:PT1H
BEGIN:VTIMEZONE
TZID:Europe/Stockholm
BEGIN:DAYLIGHT
TZOFFSETFROM:+0100
TZOFFSETTO:+0200
TZNAME:CEST
DTSTART:20240331T010000
END:DAYLIGHT
BEGIN:STANDARD
TZOFFSETFROM:+0200
TZOFFSETTO:+0100
TZNAME:CET
DTSTART:20241027T010000
END:STANDARD
END:VTIMEZONE
BEGIN:VEVENT
DTSTART;TZID=Europe/Stockholm:20240113T180000
DTEND;TZID=Europe/Stockholm:20240113T200000
DTSTAMP:20260419T182618
CREATED:20230824T120049Z
LAST-MODIFIED:20230824T120049Z
UID:14050-1705168800-1705176000@alltomsyntolkning.nu
SUMMARY:En kort evighet
DESCRIPTION:ARRANGÖR:\nGöteborgs Stadsteater \nHANDLING: \nSexton år gamla möts de på en strand på Korfu. 40 år senare möts de över en lunch. Men vad ska hända nu? När Charlott söker upp sin tonårsromans s \nAngående bokning: \nRing biljettkassan för bokning av syntolkad föreställning\, telefon 031- 708 71 00. För dig som vill sitta nära scenen har vi alltid reserverade platser speciellt för detta.
URL:https://alltomsyntolkning.nu/event/en-kort-evighet/
CATEGORIES:Teater
ATTACH;FMTTYPE=image/jpeg:https://alltomsyntolkning.nu/wp-content/uploads/gbg-teater.jpeg
END:VEVENT
END:VCALENDAR