BEGIN:VCALENDAR
VERSION:2.0
PRODID:-//Allt om syntolkning - ECPv6.0.13.1//NONSGML v1.0//EN
CALSCALE:GREGORIAN
METHOD:PUBLISH
X-ORIGINAL-URL:https://alltomsyntolkning.nu
X-WR-CALDESC:Events for Allt om syntolkning
REFRESH-INTERVAL;VALUE=DURATION:PT1H
X-Robots-Tag:noindex
X-PUBLISHED-TTL:PT1H
BEGIN:VTIMEZONE
TZID:Europe/Stockholm
BEGIN:DAYLIGHT
TZOFFSETFROM:+0100
TZOFFSETTO:+0200
TZNAME:CEST
DTSTART:20240331T010000
END:DAYLIGHT
BEGIN:STANDARD
TZOFFSETFROM:+0200
TZOFFSETTO:+0100
TZNAME:CET
DTSTART:20241027T010000
END:STANDARD
END:VTIMEZONE
BEGIN:VEVENT
DTSTART;TZID=Europe/Stockholm:20240229T190000
DTEND;TZID=Europe/Stockholm:20240229T203000
DTSTAMP:20260419T181116
CREATED:20240223T143203Z
LAST-MODIFIED:20240223T143203Z
UID:14701-1709233200-1709238600@alltomsyntolkning.nu
SUMMARY:THE LAST FIVE YEARS
DESCRIPTION:ARRANGÖR:\n\nRiksteaterföreningen i Lund i samarbete med Syntolkning Nu \nHANDLING:\nEn kärlekshistoria från början till slut – men också från slut till början! Vi följer en relation i glädje och sorg\, med- och motgång i en musikal om den underbara men svåra kärleken. \nCathy sitter ensam och sörjer sitt avslutade äktenskap. Jamie är överlycklig – han har just träffat en underbar tjej. Så börjar musikalen om Cathys och Jamies 5-åriga förhållande\, som vi får följa från två håll och där berättelserna möts i mitten vid deras bröllop.\nMedan Jamie skördar framgångar som författare kämpar Cathy med sin mindre lyckade karriär som musikalartist. Det sliter på relationen\, och deras jobb gör också att de tvingas tillbringa allt mer tid isär. Med musik influerad av pop\, jazz\, klassiskt\, klezmer\, folkmusik och rock skildras kärlekens glädjeämnen och bekymmer. \nMEDVERKANDE: \nJohanna Kylberg\, Hani Arrabi\, Johan Bergman och Ida Nørholm \nÖvrigt:\nHar man bokat egna biljetter till detta evenemang\, så går det också bra att ta del av syntolkning. Beställ gratis mottagare. Vid behov av ledsagare eller frågor om evenemanget kontakta boka@syntolkning.nu Telefon 031-3608445 \nAngående bokning:\nBiljetter kan köpas via Visit Lund\, tel 046-131415.  Köpta biljetter kan enligt arrangörens bestämmelser inte återlämnas. Vid inställt evenemang gäller arrangörens regler.
URL:https://alltomsyntolkning.nu/event/the-last-five-years/
LOCATION:Lunds Stadsteater\, Kiliansgatan 13\, Lund\, 223 50
CATEGORIES:Teater
ATTACH;FMTTYPE=image/jpeg:https://alltomsyntolkning.nu/wp-content/uploads/lastfiveyearsutan-2024.jpg
END:VEVENT
END:VCALENDAR