BEGIN:VCALENDAR
VERSION:2.0
PRODID:-//Allt om syntolkning - ECPv6.0.13.1//NONSGML v1.0//EN
CALSCALE:GREGORIAN
METHOD:PUBLISH
X-ORIGINAL-URL:https://alltomsyntolkning.nu
X-WR-CALDESC:Events for Allt om syntolkning
REFRESH-INTERVAL;VALUE=DURATION:PT1H
X-Robots-Tag:noindex
X-PUBLISHED-TTL:PT1H
BEGIN:VTIMEZONE
TZID:Europe/Stockholm
BEGIN:DAYLIGHT
TZOFFSETFROM:+0100
TZOFFSETTO:+0200
TZNAME:CEST
DTSTART:20240331T010000
END:DAYLIGHT
BEGIN:STANDARD
TZOFFSETFROM:+0200
TZOFFSETTO:+0100
TZNAME:CET
DTSTART:20241027T010000
END:STANDARD
END:VTIMEZONE
BEGIN:VEVENT
DTSTART;TZID=Europe/Stockholm:20240323T190000
DTEND;TZID=Europe/Stockholm:20240323T213000
DTSTAMP:20260422T034608
CREATED:20231120T133903Z
LAST-MODIFIED:20231120T133903Z
UID:14381-1711220400-1711229400@alltomsyntolkning.nu
SUMMARY:KATT PÅ HETT PLÅTTAK
DESCRIPTION:ARRANGÖR:\nKulturhuset Spira i samarbete med Syntolkning Nu \nOM FÖRESTÄLLNINGEN: \nUtifrån verkar allt perfekt. Maggie har flytt fattigdomen och gift sig med Brick\, en före detta idrottsstjärna och son till en plantageägare. Men bakom fasaden finns två ensamma själar\, en tom barnkammare och ett trasigt äktenskap. Finns det en framtid värd att rädda och hur ska de säkra arvet efter Pappa innan Bricks bror sätter klorna i det? \nMaggie och Brick har samlats med familjen på godset för att fira Pappas sista födelsedag. Ett skoningslöst maktspel om arvet bryter ut bland tårtljus och fyrverkerier. Djupt begravda familjehemligheter tvingas till ytan och en uppgörelse väntar – vem kommer gå vinnande ur striden? \nMEDVERKANDE:\nSanna Ingermaa Nilsson\, Kalle Malmberg\, Petter Andersson\, Åsa Arhammar\, Mathias Lithner\, Hanna Schön\, m.fl. \nÖvrigt: \nVid köp via Syntolkning Nu tillkommer en portoavgift samt\, för icke medlemmar\, en administrativ avgift om 35 kronor.\nHar man bokat egna biljetter till detta evenemang\, så går det också bra att ta del av syntolkning. Beställ gratis mottagare. Samling för syntolkningen 60 minuter innan.\nVid behov av ledsagare eller frågor om evenemanget kontakta boka@syntolkning.nu\nTelefon 031-3608445 \nAngående bokning:\nBiljetterna är bokade ända fram till dess att full betalning skett. Fram till dess kan antalet biljetter justeras.\nKöpta biljetter kan enligt arrangörens bestämmelser inte återlämnas. Vid inställt evenemang gäller arrangörens regler.
URL:https://alltomsyntolkning.nu/event/katt-pa-hett-plattak/
LOCATION:Kulturhuset Spira\, Kulturgatan 3\, Jönköping\, 553 24
CATEGORIES:Ledsagare utan kostnad,Teater
ATTACH;FMTTYPE=image/jpeg:https://alltomsyntolkning.nu/wp-content/uploads/katten.jpg
END:VEVENT
END:VCALENDAR