BEGIN:VCALENDAR
VERSION:2.0
PRODID:-//Allt om syntolkning - ECPv6.0.13.1//NONSGML v1.0//EN
CALSCALE:GREGORIAN
METHOD:PUBLISH
X-WR-CALNAME:Allt om syntolkning
X-ORIGINAL-URL:https://alltomsyntolkning.nu
X-WR-CALDESC:Events for Allt om syntolkning
REFRESH-INTERVAL;VALUE=DURATION:PT1H
X-Robots-Tag:noindex
X-PUBLISHED-TTL:PT1H
BEGIN:VTIMEZONE
TZID:Europe/Stockholm
BEGIN:DAYLIGHT
TZOFFSETFROM:+0100
TZOFFSETTO:+0200
TZNAME:CEST
DTSTART:20240331T010000
END:DAYLIGHT
BEGIN:STANDARD
TZOFFSETFROM:+0200
TZOFFSETTO:+0100
TZNAME:CET
DTSTART:20241027T010000
END:STANDARD
END:VTIMEZONE
BEGIN:VEVENT
DTSTART;TZID=Europe/Stockholm:20240423T180000
DTEND;TZID=Europe/Stockholm:20240423T193000
DTSTAMP:20260422T064738
CREATED:20240404T134559Z
LAST-MODIFIED:20240404T134559Z
UID:14925-1713895200-1713900600@alltomsyntolkning.nu
SUMMARY:Samhörighetsakuten
DESCRIPTION:ARRANGÖR:\nSRF Västmanland \nHANDLING: \nGränser ska flyttas\, territorier ska vaktas och tillhörigheter ska bevakas. Ytan för att utöver samhörighet minskar. Med humorn\, som ett allvarligtförsök att skapa hopp och tillit i en kaosartad värld\, tar sig tre roller igenom olika igenkänningsbara och samtida situationer som uppstår i glappet mellan deras förhoppningar och den verklighet de befinner sig i. \nAngående bokning: \nBoka senast 12 april till vastmanland@srf.nu eller på telefon 021-83 05 12
URL:https://alltomsyntolkning.nu/event/samhorighetsakuten/
LOCATION:Västmanlandsteater\, Slottsgatan 11\, Västerås\, 722 11
CATEGORIES:Teater
ATTACH;FMTTYPE=image/jpeg:https://alltomsyntolkning.nu/wp-content/uploads/samh.jpg
END:VEVENT
END:VCALENDAR