BEGIN:VCALENDAR
VERSION:2.0
PRODID:-//Allt om syntolkning - ECPv6.0.13.1//NONSGML v1.0//EN
CALSCALE:GREGORIAN
METHOD:PUBLISH
X-ORIGINAL-URL:https://alltomsyntolkning.nu
X-WR-CALDESC:Events for Allt om syntolkning
REFRESH-INTERVAL;VALUE=DURATION:PT1H
X-Robots-Tag:noindex
X-PUBLISHED-TTL:PT1H
BEGIN:VTIMEZONE
TZID:Europe/Stockholm
BEGIN:DAYLIGHT
TZOFFSETFROM:+0100
TZOFFSETTO:+0200
TZNAME:CEST
DTSTART:20240331T010000
END:DAYLIGHT
BEGIN:STANDARD
TZOFFSETFROM:+0200
TZOFFSETTO:+0100
TZNAME:CET
DTSTART:20241027T010000
END:STANDARD
END:VTIMEZONE
BEGIN:VEVENT
DTSTART;TZID=Europe/Stockholm:20240612T190000
DTEND;TZID=Europe/Stockholm:20240612T203000
DTSTAMP:20260423T062047
CREATED:20240507T090005Z
LAST-MODIFIED:20240509T113715Z
UID:15018-1718218800-1718224200@alltomsyntolkning.nu
SUMMARY:GUSTAV VASA - THE MUSICAL
DESCRIPTION:ARRANGÖR:\nStockholm Stadsteater Parkteatern i samarbete med Syntolkning Nu i Sverige \nHANDLING:\nBerättelsen om hur Sverige byggdes och vilka svenskar är skall framträda och Gustav Vasa själv står värd. För publiken på Stora Teatern sjunger landsfadern ut om sin resa till makten för det Sverige vi lever i idag. Men… sitter inte skägget lite väl löst på Gustav\, är inte manteln lite för stor över axlarna – på bekostnad av vad byggdes egentligen svenskheten? \nEn musikal om vad som hände när Sverige blev till\, om de som offras när landsbyggarprojekt och nationer ska bevaras och försvaras och\, såklart\, en stilla undran ifall skämt om falukorv har något bäst före datum? \nMEDVERKANDE: \nTiffany Kronlöf och kapellmästare Thom Gisslén. \nÖvrigt:\nFöranmälan till syntolkningsplatser via: parkteatern@kulturhusetstadsteatern.se\nMusikalen inleds med en pre-show med Dolores DeVille\, på cirka 15 minuter\nBeställ gratis mottagare\,  boka@syntolkning.nu. Telefon 031-3608445.\nSamling ca 45 minuter innan pjässtart\, meddelas via SMS. \n 
URL:https://alltomsyntolkning.nu/event/gustav-vasa-the-musical/
LOCATION:Solursparken\, Solursgången 16\, Vällingby\, 162 65
CATEGORIES:Gratis,Musikal,Parkteatern,Utomhus
ATTACH;FMTTYPE=image/jpeg:https://alltomsyntolkning.nu/wp-content/uploads/gv.jpeg
END:VEVENT
BEGIN:VEVENT
DTSTART;TZID=Europe/Stockholm:20240613T190000
DTEND;TZID=Europe/Stockholm:20240613T203000
DTSTAMP:20260423T062047
CREATED:20240507T100008Z
LAST-MODIFIED:20240518T144730Z
UID:15026-1718305200-1718310600@alltomsyntolkning.nu
SUMMARY:PARKTALK
DESCRIPTION:ARRANGÖR:\nStockholm Stadsteater Parkteatern i samarbete med Syntolkning Nu i Sverige \nHANDLING:\nMångsysslaren och patriarken Tord har fått i uppdrag att inviga sommaren med en scenisk upplevelse för alla (men mest för vuxna). För att lösa uppgiften har han skrivit ett material för alla tänkbara målgrupper\, snott med sig några tidigare bekanta och kryddat det med nya ansikten. Resultatet är Parktalk – en humoristisk dockteater för Stockholms parker. \nMEDVERKANDE: \nBjörn Carlberg\, \nÖvrigt:\nFöranmälan till syntolkningsplatser via: parkteatern@kulturhusetstadsteatern.se\nDet hela inleds med en pre-show med Dolores DeVille\, på cirka 15 minuter\nBeställ gratis mottagare\,  boka@syntolkning.nu. Telefon 031-3608445.\nSamling ca 45 minuter innan pjässtart\, meddelas via SMS. \n 
URL:https://alltomsyntolkning.nu/event/parktalk/
LOCATION:Solursparken\, Solursgången 16\, Vällingby\, 162 65
CATEGORIES:Dockteater,Gratis,Parkteatern,Utomhus
ATTACH;FMTTYPE=image/jpeg:https://alltomsyntolkning.nu/wp-content/uploads/park.jpg
END:VEVENT
BEGIN:VEVENT
DTSTART;TZID=Europe/Stockholm:20240625T110000
DTEND;TZID=Europe/Stockholm:20240625T120000
DTSTAMP:20260423T062047
CREATED:20240325T060043Z
LAST-MODIFIED:20240326T144110Z
UID:14842-1719313200-1719316800@alltomsyntolkning.nu
SUMMARY:ALMEDALEN 2024 - SVERIGEDEMOKRATERNA
DESCRIPTION:TALARE:\nJimmy Åkesson \nSommarens tal börjar klockan 11:00 \n  \nOM SYNTOLKNINGEN:\nSyntolken kommer beskriva det som syns och sker både innan\, under och efter framförandet. Detta sker med hänsyn till talaren\, i pauser\, så att inte dennes tal störs.\nSyntolkning Nu finns på plats med sin syntolk\, redan 45 minuter innan programmet börjar. För de som i förväg bokat mottagare för syntolkning finns sittplatser reserverade. Dessa släpps till övriga klockan 10:40. Övriga spontanbesökare får även de låna mottagare på plats. Utlämningen av mottagare\, som lånas på plats mot uppvisande av legitimation\, meddelas per SMS till de som bokat. \nOM ALMEDALSVECKAN: \nAlmedalsveckan har arrangerats på Gotland i femtio år. Det hela började 1968 när dåvarande utbildningsministern Olof Palme talade från ett lastbilsflak vid Kruttornet i Almedalen.\nDe tidiga årens politiska tal har utvecklats till att bli Sveriges största politiska mötesplats. Genom demokrati och öppenhet ger veckan alla som vill debattera samhällsfrågor möjlighet att delta.\nÖppenheten och tillgängligheten under Almedalsveckan är unik både för Sverige och övriga världen. Alla evenemang under veckan är kostnadsfria och öppna för alla.\nDe politiska riksdagspartierna är kärnan i Almedalsveckan. Deras medverkan med seminarier\, presskonferenser och tal från Almedalen utgör basen i veckan. \nTexten ovan är hämtad från\nAlmedalsveckans informationssida
URL:https://alltomsyntolkning.nu/event/almedalen-2024-sverigedemokraterna/
LOCATION:Almedalen\, Donnersgatan\, Visby\, Sverige
CATEGORIES:Almedalen 2024,Gratis,Utomhus
ATTACH;FMTTYPE=image/jpeg:https://alltomsyntolkning.nu/wp-content/uploads/11108668_10155660754765231_1255728579478379275_n-1.jpg
END:VEVENT
BEGIN:VEVENT
DTSTART;TZID=Europe/Stockholm:20240625T190000
DTEND;TZID=Europe/Stockholm:20240625T200000
DTSTAMP:20260423T062047
CREATED:20240325T060004Z
LAST-MODIFIED:20240326T144515Z
UID:14845-1719342000-1719345600@alltomsyntolkning.nu
SUMMARY:ALMEDALEN 2024 - CENTERPARTIET
DESCRIPTION:TALARE:\nMuharrem Demirok\, Centerpartiets partiledare. \nSommarens tal börjar klockan 19:00 \n  \nOM SYNTOLKNINGEN:\nSyntolken kommer beskriva det som syns och sker både innan\, under och efter framförandet. Detta sker med hänsyn till talaren\, i pauser\, så att inte dennes tal störs.\nSyntolkning Nu finns på plats med sin syntolk\, redan 45 minuter innan programmet börjar. För de som i förväg bokat mottagare för syntolkning finns sittplatser reserverade. Dessa släpps till övriga kl 18:40. Övriga spontanbesökare får även de låna mottagare på plats. Utlämningen av mottagare\, som lånas på plats mot uppvisande av legitimation\, meddelas per SMS till de som bokat. \nOM ALMEDALSVECKAN: \nAlmedalsveckan har arrangerats på Gotland i femtio år. Det hela började 1968 när dåvarande utbildningsministern Olof Palme talade från ett lastbilsflak vid Kruttornet i Almedalen.\nDe tidiga årens politiska tal har utvecklats till att bli Sveriges största politiska mötesplats. Genom demokrati och öppenhet ger veckan alla som vill debattera samhällsfrågor möjlighet att delta.\nÖppenheten och tillgängligheten under Almedalsveckan är unik både för Sverige och övriga världen. Alla evenemang under veckan är kostnadsfria och öppna för alla.\nDe politiska riksdagspartierna är kärnan i Almedalsveckan. Deras medverkan med seminarier\, presskonferenser och tal från Almedalen utgör basen i veckan. \nTexten ovan är hämtad från\nAlmedalsveckans informationssida
URL:https://alltomsyntolkning.nu/event/almedalen-2024-centerpartiet/
LOCATION:Almedalen\, Donnersgatan\, Visby\, Sverige
CATEGORIES:Almedalen 2024,Gratis,Utomhus
ATTACH;FMTTYPE=image/jpeg:https://alltomsyntolkning.nu/wp-content/uploads/11108668_10155660754765231_1255728579478379275_n-1.jpg
END:VEVENT
BEGIN:VEVENT
DTSTART;TZID=Europe/Stockholm:20240626T110000
DTEND;TZID=Europe/Stockholm:20240626T120000
DTSTAMP:20260423T062047
CREATED:20240325T060030Z
LAST-MODIFIED:20240326T144205Z
UID:14848-1719399600-1719403200@alltomsyntolkning.nu
SUMMARY:ALMEDALEN 2024 - MODERATERNA
DESCRIPTION:TALARE:\nStatsminister och partiledare Ulf Kristersson \nSommarens tal börjar klockan 11:00 \n  \nOM SYNTOLKNINGEN:\nSyntolken kommer beskriva det som syns och sker både innan\, under och efter framförandet. Detta sker med hänsyn till talaren\, i pauser\, så att inte dennes tal störs.\nSyntolkning Nu finns på plats med sin syntolk\, redan 45 minuter innan programmet börjar. För de som i förväg bokat mottagare för syntolkning finns sittplatser reserverade. Dessa släpps till övriga kl 10:40. Övriga spontanbesökare får även de låna mottagare på plats. Utlämningen av mottagare\, som lånas på plats mot uppvisande av legitimation\, meddelas per SMS till de som bokat. \nOM ALMEDALSVECKAN: \nAlmedalsveckan har arrangerats på Gotland i femtio år. Det hela började 1968 när dåvarande utbildningsministern Olof Palme talade från ett lastbilsflak vid Kruttornet i Almedalen.\nDe tidiga årens politiska tal har utvecklats till att bli Sveriges största politiska mötesplats. Genom demokrati och öppenhet ger veckan alla som vill debattera samhällsfrågor möjlighet att delta.\nÖppenheten och tillgängligheten under Almedalsveckan är unik både för Sverige och övriga världen. Alla evenemang under veckan är kostnadsfria och öppna för alla.\nDe politiska riksdagspartierna är kärnan i Almedalsveckan. Deras medverkan med seminarier\, presskonferenser och tal från Almedalen utgör basen i veckan. \nTexten ovan är hämtad från\nAlmedalsveckans informationssida
URL:https://alltomsyntolkning.nu/event/almedalen-2024-moderaterna/
LOCATION:Almedalen\, Donnersgatan\, Visby\, Sverige
CATEGORIES:Almedalen 2024,Gratis,Utomhus
ATTACH;FMTTYPE=image/jpeg:https://alltomsyntolkning.nu/wp-content/uploads/11108668_10155660754765231_1255728579478379275_n-1.jpg
END:VEVENT
BEGIN:VEVENT
DTSTART;TZID=Europe/Stockholm:20240626T190000
DTEND;TZID=Europe/Stockholm:20240626T200000
DTSTAMP:20260423T062047
CREATED:20240325T060013Z
LAST-MODIFIED:20240413T105705Z
UID:14837-1719428400-1719432000@alltomsyntolkning.nu
SUMMARY:Almedalen 2024 - SOCIALDEMOKRATERNA
DESCRIPTION:TALARE:\nMagdalena Andersson\, Socialdemokraternas partiledare \nSommarens tal börjar klockan 19:00 \n  \nOM SYNTOLKNINGEN:\nSyntolken kommer beskriva det som syns och sker både innan\, under och efter framförandet. Detta sker med hänsyn till talaren\, i pauser\, så att inte dennes tal störs.\nSyntolkning Nu finns på plats med sin syntolk\, redan 45 minuter innan programmet börjar. För de som i förväg bokat mottagare för syntolkning finns sittplatser reserverade. Dessa släpps till övriga kl 30 minuter innan talet. Övriga spontanbesökare får även de låna mottagare på plats. Utlämningen av mottagare\, som lånas på plats mot uppvisande av legitimation\, meddelas per SMS till de som bokat. \nOM ALMEDALSVECKAN: \nAlmedalsveckan har arrangerats på Gotland i femtio år. Det hela började 1968 när dåvarande utbildningsministern Olof Palme talade från ett lastbilsflak vid Kruttornet i Almedalen.\nDe tidiga årens politiska tal har utvecklats till att bli Sveriges största politiska mötesplats. Genom demokrati och öppenhet ger veckan alla som vill debattera samhällsfrågor möjlighet att delta.\nÖppenheten och tillgängligheten under Almedalsveckan är unik både för Sverige och övriga världen. Alla evenemang under veckan är kostnadsfria och öppna för alla.\nDe politiska riksdagspartierna är kärnan i Almedalsveckan. Deras medverkan med seminarier\, presskonferenser och tal från Almedalen utgör basen i veckan. \nTexten ovan är hämtad från\nAlmedalsveckans informationssida
URL:https://alltomsyntolkning.nu/event/almedalen-2024-socialdemokraterna/
LOCATION:Almedalen\, Donnersgatan\, Visby\, Sverige
CATEGORIES:Almedalen 2024,Gratis,Utomhus
ATTACH;FMTTYPE=image/jpeg:https://alltomsyntolkning.nu/wp-content/uploads/11108668_10155660754765231_1255728579478379275_n-1.jpg
END:VEVENT
BEGIN:VEVENT
DTSTART;TZID=Europe/Stockholm:20240627T110000
DTEND;TZID=Europe/Stockholm:20240627T120000
DTSTAMP:20260423T062047
CREATED:20240325T060024Z
LAST-MODIFIED:20240326T144309Z
UID:14852-1719486000-1719489600@alltomsyntolkning.nu
SUMMARY:ALMEDALEN 2024 - MILJÖPARTIET
DESCRIPTION:TALARE:\nDaniel Helldén \nSommarens tal börjar klockan 11:00 \n  \nOM SYNTOLKNINGEN:\nSyntolken kommer beskriva det som syns och sker både innan\, under och efter framförandet. Detta sker med hänsyn till talaren\, i pauser\, så att inte dennes tal störs.\nSyntolkning Nu finns på plats med sin syntolk\, redan 45 minuter innan programmet börjar. För de som i förväg bokat mottagare för syntolkning finns sittplatser reserverade. Dessa släpps till övriga kl 10:40. Övriga spontanbesökare får även de låna mottagare på plats. Utlämningen av mottagare\, som lånas på plats mot uppvisande av legitimation\, meddelas per SMS till de som bokat. \nOM ALMEDALSVECKAN: \nAlmedalsveckan har arrangerats på Gotland i femtio år. Det hela började 1968 när dåvarande utbildningsministern Olof Palme talade från ett lastbilsflak vid Kruttornet i Almedalen.\nDe tidiga årens politiska tal har utvecklats till att bli Sveriges största politiska mötesplats. Genom demokrati och öppenhet ger veckan alla som vill debattera samhällsfrågor möjlighet att delta.\nÖppenheten och tillgängligheten under Almedalsveckan är unik både för Sverige och övriga världen. Alla evenemang under veckan är kostnadsfria och öppna för alla.\nDe politiska riksdagspartierna är kärnan i Almedalsveckan. Deras medverkan med seminarier\, presskonferenser och tal från Almedalen utgör basen i veckan. \nTexten ovan är hämtad från\nAlmedalsveckans informationssida
URL:https://alltomsyntolkning.nu/event/almedalen-2024-miljopartiet/
LOCATION:Almedalen\, Donnersgatan\, Visby\, Sverige
CATEGORIES:Almedalen 2024,Gratis,Utomhus
ATTACH;FMTTYPE=image/jpeg:https://alltomsyntolkning.nu/wp-content/uploads/11108668_10155660754765231_1255728579478379275_n-1.jpg
END:VEVENT
BEGIN:VEVENT
DTSTART;TZID=Europe/Stockholm:20240627T190000
DTEND;TZID=Europe/Stockholm:20240627T200000
DTSTAMP:20260423T062047
CREATED:20240325T060052Z
LAST-MODIFIED:20240326T144030Z
UID:14857-1719514800-1719518400@alltomsyntolkning.nu
SUMMARY:ALMEDALEN 2024 - VÄNSTERPARTIET
DESCRIPTION:TALARE:\nNooshi Dadgostar \nSommarens tal börjar klockan 19:00 \n  \nOM SYNTOLKNINGEN: \nSyntolken kommer beskriva det som syns och sker både innan\, under och efter framförandet. Detta sker med hänsyn till talaren\, i pauser\, så att inte dennes tal störs.\nSyntolkning Nu finns på plats med sin syntolk\, redan 45 minuter innan programmet börjar. För de som i förväg bokat mottagare för syntolkning finns sittplatser reserverade. Dessa släpps till övriga kl 18:40. Övriga spontanbesökare får även de låna mottagare på plats. Utlämningen av mottagare\, som lånas på plats mot uppvisande av legitimation\, meddelas per SMS till de som bokat. \nOM ALMEDALSVECKAN: \nAlmedalsveckan har arrangerats på Gotland i snart femtio år. Det hela började 1968 när dåvarande utbildningsministern Olof Palme talade från ett lastbilsflak vid Kruttornet i Almedalen.\nDe tidiga årens politiska tal har utvecklats till att bli Sveriges största politiska mötesplats. Genom demokrati och öppenhet ger veckan alla som vill debattera samhällsfrågor möjlighet att delta.\nÖppenheten och tillgängligheten under Almedalsveckan är unik både för Sverige och övriga världen. Alla evenemang under veckan är kostnadsfria och öppna för alla.\nDe politiska riksdagspartierna är kärnan i Almedalsveckan. Deras medverkan med seminarier\, presskonferenser och tal från Almedalen utgör basen i veckan. \nTexten ovan är hämtad från\nAlmedalsveckans informationssida
URL:https://alltomsyntolkning.nu/event/almedalen-2024-vansterpartiet/
LOCATION:Almedalen\, Donnersgatan\, Visby\, Sverige
CATEGORIES:Almedalen 2024,Gratis,Utomhus
ATTACH;FMTTYPE=image/jpeg:https://alltomsyntolkning.nu/wp-content/uploads/11108668_10155660754765231_1255728579478379275_n-1.jpg
END:VEVENT
BEGIN:VEVENT
DTSTART;TZID=Europe/Stockholm:20240628T110000
DTEND;TZID=Europe/Stockholm:20240628T120000
DTSTAMP:20260423T062047
CREATED:20240325T060052Z
LAST-MODIFIED:20240326T143939Z
UID:14860-1719572400-1719576000@alltomsyntolkning.nu
SUMMARY:ALMEDALEN 2024 - KRISTDEMOKRATERNA
DESCRIPTION:TALARE:\nEbba Busch \nSommarens tal börjar klockan 11:00 \n  \nOM SYNTOLKNINGEN:\nSyntolken kommer beskriva det som syns och sker både innan\, under och efter framförandet. Detta sker med hänsyn till talaren\, i pauser\, så att inte dennes tal störs.\nSyntolkning Nu finns på plats med sin syntolk\, redan 45 minuter innan programmet börjar. För de som i förväg bokat mottagare för syntolkning finns sittplatser reserverade. Dessa släpps till övriga kl 10:40. Övriga spontanbesökare får även de låna mottagare på plats. Utlämningen av mottagare\, som lånas på plats mot uppvisande av legitimation\, meddelas per SMS till de som bokat. \nOM ALMEDALSVECKAN: \nAlmedalsveckan har arrangerats på Gotland i femtio år. Det hela började 1968 när dåvarande utbildningsministern Olof Palme talade från ett lastbilsflak vid Kruttornet i Almedalen.\nDe tidiga årens politiska tal har utvecklats till att bli Sveriges största politiska mötesplats. Genom demokrati och öppenhet ger veckan alla som vill debattera samhällsfrågor möjlighet att delta.\nÖppenheten och tillgängligheten under Almedalsveckan är unik både för Sverige och övriga världen. Alla evenemang under veckan är kostnadsfria och öppna för alla.\nDe politiska riksdagspartierna är kärnan i Almedalsveckan. Deras medverkan med seminarier\, presskonferenser och tal från Almedalen utgör basen i veckan. \nTexten ovan är hämtad från\nAlmedalsveckans informationssida
URL:https://alltomsyntolkning.nu/event/almedalen-2024-kristdemokraterna/
LOCATION:Almedalen\, Donnersgatan\, Visby\, Sverige
CATEGORIES:Almedalen 2024,Gratis,Utomhus
ATTACH;FMTTYPE=image/jpeg:https://alltomsyntolkning.nu/wp-content/uploads/11108668_10155660754765231_1255728579478379275_n-1.jpg
END:VEVENT
BEGIN:VEVENT
DTSTART;TZID=Europe/Stockholm:20240628T190000
DTEND;TZID=Europe/Stockholm:20240628T200000
DTSTAMP:20260423T062047
CREATED:20240325T060014Z
LAST-MODIFIED:20240326T144346Z
UID:14863-1719601200-1719604800@alltomsyntolkning.nu
SUMMARY:ALMEDALEN 2024 - LIBERALERNA
DESCRIPTION:TALARE:\nJohan Pehrson \nSommarens tal börjar klockan 19:00 \n  \nOM SYNTOLKNINGEN:\nSyntolken kommer beskriva det som syns och sker både innan\, under och efter framförandet. Detta sker med hänsyn till talaren\, i pauser\, så att inte dennes tal störs.\nSyntolkning Nu finns på plats med sin syntolk\, redan 45 minuter innan programmet börjar. För de som i förväg bokat mottagare för syntolkning finns sittplatser reserverade. Dessa släpps till övriga kl 18:40. Övriga spontanbesökare får även de låna mottagare på plats. Utlämningen av mottagare\, som lånas på plats mot uppvisande av legitimation\, meddelas per SMS till de som bokat. \nOM ALMEDALSVECKAN: \nAlmedalsveckan har arrangerats på Gotland i femtio år. Det hela började 1968 när dåvarande utbildningsministern Olof Palme talade från ett lastbilsflak vid Kruttornet i Almedalen.\nDe tidiga årens politiska tal har utvecklats till att bli Sveriges största politiska mötesplats. Genom demokrati och öppenhet ger veckan alla som vill debattera samhällsfrågor möjlighet att delta.\nÖppenheten och tillgängligheten under Almedalsveckan är unik både för Sverige och övriga världen. Alla evenemang under veckan är kostnadsfria och öppna för alla.\nDe politiska riksdagspartierna är kärnan i Almedalsveckan. Deras medverkan med seminarier\, presskonferenser och tal från Almedalen utgör basen i veckan. \nTexten ovan är hämtad från\nAlmedalsveckans informationssida
URL:https://alltomsyntolkning.nu/event/almedalen-2024-liberalerna/
LOCATION:Almedalen\, Donnersgatan\, Visby\, Sverige
CATEGORIES:Almedalen 2024,Gratis,Utomhus
ATTACH;FMTTYPE=image/jpeg:https://alltomsyntolkning.nu/wp-content/uploads/11108668_10155660754765231_1255728579478379275_n-1.jpg
END:VEVENT
BEGIN:VEVENT
DTSTART;TZID=Europe/Stockholm:20240630T150000
DTEND;TZID=Europe/Stockholm:20240630T173000
DTSTAMP:20260423T062047
CREATED:20231213T070027Z
LAST-MODIFIED:20231211T110141Z
UID:14495-1719759600-1719768600@alltomsyntolkning.nu
SUMMARY:OJ DÅ! ...en till?!
DESCRIPTION:ARRANGÖR:\nSyntolkning Nu i samarbete med Teatersviten och Kalmarsalen. \nOM FÖRESTÄLLNINGEN:\n\nFöreställningen utspelar sig i slutet på 50-talet på ett gods i utkanten av Kalmar där det bor en förmögen affärsman som har utlovat ett större arv till en f.d. kollegas son. Tillsammans med sin finurliga följeslagare dyker vännerna upp på godset mitt i förberedelserna till en stundande födelsedagsfest för att inkassera det utlovade arvet som betalas ut på ett villkor; att endast en levande släkting finns i livet.\nSnabbt framgår det för publiken att det finns långt fler än en arvinge och de klassiska farsförväxlingarna är i gång. \n\nMEDVERKANDE:\nRobert Gustafsson\, Ola Forssmed\, Carina Lidbom\, Lars Väringer\, Anton Lundqvist\, Linda Olsson\, Per Svensson\, Martina Sundén samt Martin Rydell. \nÖvrigt:\nHar man bokat egna biljetter till detta evenemang\, så går det också bra att ta del av syntolkning. Beställ gratis mottagare.\nVid behov av ledsagare eller frågor om evenemanget kontakta boka@syntolkning.nu\nTelefon 031-3608445 \nAngående bokning: \nVid köp via Syntolkning Nu tillkommer en portoavgift samt\, för icke medlemmar\, en administrativ avgift om 35 kronor.\nBiljetterna är bokade ända fram till dess att full betalning skett. Fram till dess kan antalet biljetter justeras.\nKöpta biljetter kan enligt arrangörens bestämmelser inte återlämnas. Vid inställt evenemang gäller arrangörens regler.
URL:https://alltomsyntolkning.nu/event/oj-da-en-till/
LOCATION:Krusenstiernska gården\, Stora Dammgatan 11\, Kalmar\, Sverige
CATEGORIES:Komedi,Show,Utomhus
ATTACH;FMTTYPE=image/jpeg:https://alltomsyntolkning.nu/wp-content/uploads/ojentill.jpg
END:VEVENT
END:VCALENDAR