BEGIN:VCALENDAR
VERSION:2.0
PRODID:-//Allt om syntolkning - ECPv6.0.13.1//NONSGML v1.0//EN
CALSCALE:GREGORIAN
METHOD:PUBLISH
X-ORIGINAL-URL:https://alltomsyntolkning.nu
X-WR-CALDESC:Events for Allt om syntolkning
REFRESH-INTERVAL;VALUE=DURATION:PT1H
X-Robots-Tag:noindex
X-PUBLISHED-TTL:PT1H
BEGIN:VTIMEZONE
TZID:Europe/Stockholm
BEGIN:DAYLIGHT
TZOFFSETFROM:+0100
TZOFFSETTO:+0200
TZNAME:CEST
DTSTART:20240331T010000
END:DAYLIGHT
BEGIN:STANDARD
TZOFFSETFROM:+0200
TZOFFSETTO:+0100
TZNAME:CET
DTSTART:20241027T010000
END:STANDARD
END:VTIMEZONE
BEGIN:VEVENT
DTSTART;TZID=Europe/Stockholm:20240719T140000
DTEND;TZID=Europe/Stockholm:20240719T145000
DTSTAMP:20260422T144832
CREATED:20240603T135307Z
LAST-MODIFIED:20240603T135307Z
UID:15085-1721397600-1721400600@alltomsyntolkning.nu
SUMMARY:INGEN RÖVARE FINNS I SKOGEN
DESCRIPTION:ARRANGÖR:\n\nVisit Lund\, Sommarlund i samarbete med Folkets hus och parker samt Syntolkning Nu \nHANDLING: \nTa med barnen på en musikteater full av äventyr och fantasi\, baserad på Astrid Lindgrens novell ”Ingen rövare finns i skogen”. \nPubliken får möta Peter\, ynglingen med stort hjärta\, som kastas in i en spännande historia med rövare\, pärlhalsband och svärd. När Mimmi\, dockan i dockskåpet – som plötsligt börjar leva och prata\, blir utmanad av Fiolito\, rövarhövdingen\, ja\, då finns ingen annan råd än att försvara sig. Och Mimmi förstås. Fast hon visar sig vara fullt kapabel att ta hand om sig själv. Och hur är det nu; sker allting på riktigt – eller i Peters huvud. Kanske spelar det ingen roll\, för sagan finns ju där ändå. \nMEDVERKANDE: \nIda Breimo\, Daniel Sorange\, Jim Änglykke\, Hilda Dahlberg och Tomas Norberg \nÖvrigt:\nOnumrerade platser \nAngående bokning:\nMottagare kan utan kostnad lånas på plats
URL:https://alltomsyntolkning.nu/event/ingen-rovare-finns-i-skogen/
LOCATION:Vita scenen i Stadsparken\, Svanegatan\, Lund\, 222 29
CATEGORIES:Gratis,Utomhus
ATTACH;FMTTYPE=image/jpeg:https://alltomsyntolkning.nu/wp-content/uploads/inga.jpg
END:VEVENT
END:VCALENDAR